BEGIN:VCALENDAR
VERSION:2.0
PRODID:https://www.kufer.de/kuferweb / DE
METHOD:PUBLISH
CALSCALE:GREGORIAN
X-WR-TIMEZONE:Europe/Berlin
BEGIN:VTIMEZONE
TZID:Europe/Berlin
X-LIC-LOCATION:Europe/Berlin
BEGIN:DAYLIGHT
TZOFFSETFROM:+0100
TZOFFSETTO:+0200
TZNAME:CEST
DTSTART:19700329T020000
RRULE:FREQ=YEARLY;INTERVAL=1;BYDAY=-1SU;BYMONTH=3
END:DAYLIGHT
BEGIN:STANDARD
TZOFFSETFROM:+0200
TZOFFSETTO:+0100
TZNAME:CET
DTSTART:19701025T030000
RRULE:FREQ=YEARLY;INTERVAL=1;BYDAY=-1SU;BYMONTH=10
END:STANDARD
END:VTIMEZONE
BEGIN:VEVENT
DTSTAMP:20260425T012757
DTSTART;TZID=Europe/Berlin:20270106T130000
DTEND;TZID=Europe/Berlin:20270106T143000
UID:Z7406302-20270106T130000@VHSMAIN-TAUNUS-KREIS
SUMMARY:Englisch für Schüler:innen der 5./6. Klasse  Grammatik verstehen und anwenden (Z7406302) 
LOCATION:Hofheim, vhs, 1.01, Alte Bleiche 5, 65719 Hofheim
END:VEVENT
BEGIN:VEVENT
DTSTAMP:20260425T012757
DTSTART;TZID=Europe/Berlin:20270107T130000
DTEND;TZID=Europe/Berlin:20270107T143000
UID:Z7406302-20270107T130000@VHSMAIN-TAUNUS-KREIS
SUMMARY:Englisch für Schüler:innen der 5./6. Klasse  Grammatik verstehen und anwenden (Z7406302) 
LOCATION:Hofheim, vhs, 1.01, Alte Bleiche 5, 65719 Hofheim
END:VEVENT
BEGIN:VEVENT
DTSTAMP:20260425T012757
DTSTART;TZID=Europe/Berlin:20270108T130000
DTEND;TZID=Europe/Berlin:20270108T143000
UID:Z7406302-20270108T130000@VHSMAIN-TAUNUS-KREIS
SUMMARY:Englisch für Schüler:innen der 5./6. Klasse  Grammatik verstehen und anwenden (Z7406302) 
LOCATION:Hofheim, vhs, 1.01, Alte Bleiche 5, 65719 Hofheim
END:VEVENT
END:VCALENDAR