BEGIN:VCALENDAR
VERSION:2.0
PRODID:https://www.kufer.de/kuferweb / DE
METHOD:PUBLISH
CALSCALE:GREGORIAN
X-WR-TIMEZONE:Europe/Berlin
BEGIN:VTIMEZONE
TZID:Europe/Berlin
X-LIC-LOCATION:Europe/Berlin
BEGIN:DAYLIGHT
TZOFFSETFROM:+0100
TZOFFSETTO:+0200
TZNAME:CEST
DTSTART:19700329T020000
RRULE:FREQ=YEARLY;INTERVAL=1;BYDAY=-1SU;BYMONTH=3
END:DAYLIGHT
BEGIN:STANDARD
TZOFFSETFROM:+0200
TZOFFSETTO:+0100
TZNAME:CET
DTSTART:19701025T030000
RRULE:FREQ=YEARLY;INTERVAL=1;BYDAY=-1SU;BYMONTH=10
END:STANDARD
END:VTIMEZONE
BEGIN:VEVENT
DTSTAMP:20260425T150011
DTSTART;TZID=Europe/Berlin:20260916T151500
DTEND;TZID=Europe/Berlin:20260916T160000
UID:Z7406300-20260916T151500@VHSMAIN-TAUNUS-KREIS
SUMMARY:English Mini Club - Spielerisch Englisch lernen für Kinder von 5 bis 7 Jahren (Z7406300) 
LOCATION:Hofheim, vhs, 2.02, Alte Bleiche 5, 65719 Hofheim
END:VEVENT
BEGIN:VEVENT
DTSTAMP:20260425T150011
DTSTART;TZID=Europe/Berlin:20260923T151500
DTEND;TZID=Europe/Berlin:20260923T160000
UID:Z7406300-20260923T151500@VHSMAIN-TAUNUS-KREIS
SUMMARY:English Mini Club - Spielerisch Englisch lernen für Kinder von 5 bis 7 Jahren (Z7406300) 
LOCATION:Hofheim, vhs, 2.02, Alte Bleiche 5, 65719 Hofheim
END:VEVENT
BEGIN:VEVENT
DTSTAMP:20260425T150011
DTSTART;TZID=Europe/Berlin:20260930T151500
DTEND;TZID=Europe/Berlin:20260930T160000
UID:Z7406300-20260930T151500@VHSMAIN-TAUNUS-KREIS
SUMMARY:English Mini Club - Spielerisch Englisch lernen für Kinder von 5 bis 7 Jahren (Z7406300) 
LOCATION:Hofheim, vhs, 2.02, Alte Bleiche 5, 65719 Hofheim
END:VEVENT
BEGIN:VEVENT
DTSTAMP:20260425T150011
DTSTART;TZID=Europe/Berlin:20261021T151500
DTEND;TZID=Europe/Berlin:20261021T160000
UID:Z7406300-20261021T151500@VHSMAIN-TAUNUS-KREIS
SUMMARY:English Mini Club - Spielerisch Englisch lernen für Kinder von 5 bis 7 Jahren (Z7406300) 
LOCATION:Hofheim, vhs, 2.02, Alte Bleiche 5, 65719 Hofheim
END:VEVENT
BEGIN:VEVENT
DTSTAMP:20260425T150011
DTSTART;TZID=Europe/Berlin:20261028T151500
DTEND;TZID=Europe/Berlin:20261028T160000
UID:Z7406300-20261028T151500@VHSMAIN-TAUNUS-KREIS
SUMMARY:English Mini Club - Spielerisch Englisch lernen für Kinder von 5 bis 7 Jahren (Z7406300) 
LOCATION:Hofheim, vhs, 2.02, Alte Bleiche 5, 65719 Hofheim
END:VEVENT
BEGIN:VEVENT
DTSTAMP:20260425T150011
DTSTART;TZID=Europe/Berlin:20261104T151500
DTEND;TZID=Europe/Berlin:20261104T160000
UID:Z7406300-20261104T151500@VHSMAIN-TAUNUS-KREIS
SUMMARY:English Mini Club - Spielerisch Englisch lernen für Kinder von 5 bis 7 Jahren (Z7406300) 
LOCATION:Hofheim, vhs, 2.02, Alte Bleiche 5, 65719 Hofheim
END:VEVENT
BEGIN:VEVENT
DTSTAMP:20260425T150011
DTSTART;TZID=Europe/Berlin:20261111T151500
DTEND;TZID=Europe/Berlin:20261111T160000
UID:Z7406300-20261111T151500@VHSMAIN-TAUNUS-KREIS
SUMMARY:English Mini Club - Spielerisch Englisch lernen für Kinder von 5 bis 7 Jahren (Z7406300) 
LOCATION:Hofheim, vhs, 2.02, Alte Bleiche 5, 65719 Hofheim
END:VEVENT
BEGIN:VEVENT
DTSTAMP:20260425T150011
DTSTART;TZID=Europe/Berlin:20261118T151500
DTEND;TZID=Europe/Berlin:20261118T160000
UID:Z7406300-20261118T151500@VHSMAIN-TAUNUS-KREIS
SUMMARY:English Mini Club - Spielerisch Englisch lernen für Kinder von 5 bis 7 Jahren (Z7406300) 
LOCATION:Hofheim, vhs, 2.02, Alte Bleiche 5, 65719 Hofheim
END:VEVENT
BEGIN:VEVENT
DTSTAMP:20260425T150011
DTSTART;TZID=Europe/Berlin:20261125T151500
DTEND;TZID=Europe/Berlin:20261125T160000
UID:Z7406300-20261125T151500@VHSMAIN-TAUNUS-KREIS
SUMMARY:English Mini Club - Spielerisch Englisch lernen für Kinder von 5 bis 7 Jahren (Z7406300) 
LOCATION:Hofheim, vhs, 2.02, Alte Bleiche 5, 65719 Hofheim
END:VEVENT
BEGIN:VEVENT
DTSTAMP:20260425T150011
DTSTART;TZID=Europe/Berlin:20261202T151500
DTEND;TZID=Europe/Berlin:20261202T160000
UID:Z7406300-20261202T151500@VHSMAIN-TAUNUS-KREIS
SUMMARY:English Mini Club - Spielerisch Englisch lernen für Kinder von 5 bis 7 Jahren (Z7406300) 
LOCATION:Hofheim, vhs, 2.02, Alte Bleiche 5, 65719 Hofheim
END:VEVENT
END:VCALENDAR