BEGIN:VCALENDAR
VERSION:2.0
PRODID:https://www.kufer.de/kuferweb / DE
METHOD:PUBLISH
CALSCALE:GREGORIAN
X-WR-TIMEZONE:Europe/Berlin
BEGIN:VTIMEZONE
TZID:Europe/Berlin
X-LIC-LOCATION:Europe/Berlin
BEGIN:DAYLIGHT
TZOFFSETFROM:+0100
TZOFFSETTO:+0200
TZNAME:CEST
DTSTART:19700329T020000
RRULE:FREQ=YEARLY;INTERVAL=1;BYDAY=-1SU;BYMONTH=3
END:DAYLIGHT
BEGIN:STANDARD
TZOFFSETFROM:+0200
TZOFFSETTO:+0100
TZNAME:CET
DTSTART:19701025T030000
RRULE:FREQ=YEARLY;INTERVAL=1;BYDAY=-1SU;BYMONTH=10
END:STANDARD
END:VTIMEZONE
BEGIN:VEVENT
DTSTAMP:20260425T012908
DTSTART;TZID=Europe/Berlin:20261012T090000
DTEND;TZID=Europe/Berlin:20261012T120000
UID:Z7208333-20261012T090000@VHSMAIN-TAUNUS-KREIS
SUMMARY:Häkeln lernen– Kreativ durch die Herbstferien (Z7208333) 
LOCATION:Hofheim, vhs, 5.07, Alte Bleiche 5, 65719 Hofheim
END:VEVENT
BEGIN:VEVENT
DTSTAMP:20260425T012908
DTSTART;TZID=Europe/Berlin:20261013T090000
DTEND;TZID=Europe/Berlin:20261013T120000
UID:Z7208333-20261013T090000@VHSMAIN-TAUNUS-KREIS
SUMMARY:Häkeln lernen– Kreativ durch die Herbstferien (Z7208333) 
LOCATION:Hofheim, vhs, 5.07, Alte Bleiche 5, 65719 Hofheim
END:VEVENT
BEGIN:VEVENT
DTSTAMP:20260425T012908
DTSTART;TZID=Europe/Berlin:20261014T090000
DTEND;TZID=Europe/Berlin:20261014T120000
UID:Z7208333-20261014T090000@VHSMAIN-TAUNUS-KREIS
SUMMARY:Häkeln lernen– Kreativ durch die Herbstferien (Z7208333) 
LOCATION:Hofheim, vhs, 5.07, Alte Bleiche 5, 65719 Hofheim
END:VEVENT
BEGIN:VEVENT
DTSTAMP:20260425T012908
DTSTART;TZID=Europe/Berlin:20261015T090000
DTEND;TZID=Europe/Berlin:20261015T120000
UID:Z7208333-20261015T090000@VHSMAIN-TAUNUS-KREIS
SUMMARY:Häkeln lernen– Kreativ durch die Herbstferien (Z7208333) 
LOCATION:Hofheim, vhs, 5.07, Alte Bleiche 5, 65719 Hofheim
END:VEVENT
BEGIN:VEVENT
DTSTAMP:20260425T012908
DTSTART;TZID=Europe/Berlin:20261016T090000
DTEND;TZID=Europe/Berlin:20261016T120000
UID:Z7208333-20261016T090000@VHSMAIN-TAUNUS-KREIS
SUMMARY:Häkeln lernen– Kreativ durch die Herbstferien (Z7208333) 
LOCATION:Hofheim, vhs, 5.07, Alte Bleiche 5, 65719 Hofheim
END:VEVENT
END:VCALENDAR