BEGIN:VCALENDAR
VERSION:2.0
PRODID:https://www.kufer.de/kuferweb / DE
METHOD:PUBLISH
CALSCALE:GREGORIAN
X-WR-TIMEZONE:Europe/Berlin
BEGIN:VTIMEZONE
TZID:Europe/Berlin
X-LIC-LOCATION:Europe/Berlin
BEGIN:DAYLIGHT
TZOFFSETFROM:+0100
TZOFFSETTO:+0200
TZNAME:CEST
DTSTART:19700329T020000
RRULE:FREQ=YEARLY;INTERVAL=1;BYDAY=-1SU;BYMONTH=3
END:DAYLIGHT
BEGIN:STANDARD
TZOFFSETFROM:+0200
TZOFFSETTO:+0100
TZNAME:CET
DTSTART:19701025T030000
RRULE:FREQ=YEARLY;INTERVAL=1;BYDAY=-1SU;BYMONTH=10
END:STANDARD
END:VTIMEZONE
BEGIN:VEVENT
DTSTAMP:20260425T150016
DTSTART;TZID=Europe/Berlin:20261005T100000
DTEND;TZID=Europe/Berlin:20261005T130000
UID:Z7208112-20261005T100000@VHSMAIN-TAUNUS-KREIS
SUMMARY:Nähen in den Herbstferien (9-12 Jahre) Herbstferienkurs (Z7208112) 
LOCATION:Hattersheim, Nelis Atelier, Atelier, Am Kirchgarten 6, 65795 Hattersheim
END:VEVENT
BEGIN:VEVENT
DTSTAMP:20260425T150016
DTSTART;TZID=Europe/Berlin:20261006T100000
DTEND;TZID=Europe/Berlin:20261006T130000
UID:Z7208112-20261006T100000@VHSMAIN-TAUNUS-KREIS
SUMMARY:Nähen in den Herbstferien (9-12 Jahre) Herbstferienkurs (Z7208112) 
LOCATION:Hattersheim, Nelis Atelier, Atelier, Am Kirchgarten 6, 65795 Hattersheim
END:VEVENT
BEGIN:VEVENT
DTSTAMP:20260425T150016
DTSTART;TZID=Europe/Berlin:20261007T100000
DTEND;TZID=Europe/Berlin:20261007T130000
UID:Z7208112-20261007T100000@VHSMAIN-TAUNUS-KREIS
SUMMARY:Nähen in den Herbstferien (9-12 Jahre) Herbstferienkurs (Z7208112) 
LOCATION:Hattersheim, Nelis Atelier, Atelier, Am Kirchgarten 6, 65795 Hattersheim
END:VEVENT
BEGIN:VEVENT
DTSTAMP:20260425T150016
DTSTART;TZID=Europe/Berlin:20261008T100000
DTEND;TZID=Europe/Berlin:20261008T130000
UID:Z7208112-20261008T100000@VHSMAIN-TAUNUS-KREIS
SUMMARY:Nähen in den Herbstferien (9-12 Jahre) Herbstferienkurs (Z7208112) 
LOCATION:Hattersheim, Nelis Atelier, Atelier, Am Kirchgarten 6, 65795 Hattersheim
END:VEVENT
BEGIN:VEVENT
DTSTAMP:20260425T150016
DTSTART;TZID=Europe/Berlin:20261009T100000
DTEND;TZID=Europe/Berlin:20261009T130000
UID:Z7208112-20261009T100000@VHSMAIN-TAUNUS-KREIS
SUMMARY:Nähen in den Herbstferien (9-12 Jahre) Herbstferienkurs (Z7208112) 
LOCATION:Hattersheim, Nelis Atelier, Atelier, Am Kirchgarten 6, 65795 Hattersheim
END:VEVENT
END:VCALENDAR