BEGIN:VCALENDAR
VERSION:2.0
PRODID:https://www.kufer.de/kuferweb / DE
METHOD:PUBLISH
CALSCALE:GREGORIAN
X-WR-TIMEZONE:Europe/Berlin
BEGIN:VTIMEZONE
TZID:Europe/Berlin
X-LIC-LOCATION:Europe/Berlin
BEGIN:DAYLIGHT
TZOFFSETFROM:+0100
TZOFFSETTO:+0200
TZNAME:CEST
DTSTART:19700329T020000
RRULE:FREQ=YEARLY;INTERVAL=1;BYDAY=-1SU;BYMONTH=3
END:DAYLIGHT
BEGIN:STANDARD
TZOFFSETFROM:+0200
TZOFFSETTO:+0100
TZNAME:CET
DTSTART:19701025T030000
RRULE:FREQ=YEARLY;INTERVAL=1;BYDAY=-1SU;BYMONTH=10
END:STANDARD
END:VTIMEZONE
BEGIN:VEVENT
DTSTAMP:20260425T175350
DTSTART;TZID=Europe/Berlin:20260911T133000
DTEND;TZID=Europe/Berlin:20260911T164500
UID:Z0404926-20260911T133000@VHSMAIN-TAUNUS-KREIS
SUMMARY:Integrationskurs, Alphabetisierung, Modul 5, Kurs 556 (Z0404926) 
LOCATION:Hofheim, vhs, 1.07, Alte Bleiche 5, 65719 Hofheim
END:VEVENT
BEGIN:VEVENT
DTSTAMP:20260425T175350
DTSTART;TZID=Europe/Berlin:20260914T130000
DTEND;TZID=Europe/Berlin:20260914T161500
UID:Z0404926-20260914T130000@VHSMAIN-TAUNUS-KREIS
SUMMARY:Integrationskurs, Alphabetisierung, Modul 5, Kurs 556 (Z0404926) 
LOCATION:Hofheim, vhs, 1.07, Alte Bleiche 5, 65719 Hofheim
END:VEVENT
BEGIN:VEVENT
DTSTAMP:20260425T175350
DTSTART;TZID=Europe/Berlin:20260915T130000
DTEND;TZID=Europe/Berlin:20260915T161500
UID:Z0404926-20260915T130000@VHSMAIN-TAUNUS-KREIS
SUMMARY:Integrationskurs, Alphabetisierung, Modul 5, Kurs 556 (Z0404926) 
LOCATION:Hofheim, vhs, 1.07, Alte Bleiche 5, 65719 Hofheim
END:VEVENT
BEGIN:VEVENT
DTSTAMP:20260425T175350
DTSTART;TZID=Europe/Berlin:20260916T130000
DTEND;TZID=Europe/Berlin:20260916T161500
UID:Z0404926-20260916T130000@VHSMAIN-TAUNUS-KREIS
SUMMARY:Integrationskurs, Alphabetisierung, Modul 5, Kurs 556 (Z0404926) 
LOCATION:Hofheim, vhs, 1.07, Alte Bleiche 5, 65719 Hofheim
END:VEVENT
BEGIN:VEVENT
DTSTAMP:20260425T175350
DTSTART;TZID=Europe/Berlin:20260917T133000
DTEND;TZID=Europe/Berlin:20260917T164500
UID:Z0404926-20260917T133000@VHSMAIN-TAUNUS-KREIS
SUMMARY:Integrationskurs, Alphabetisierung, Modul 5, Kurs 556 (Z0404926) 
LOCATION:Hofheim, vhs, 1.07, Alte Bleiche 5, 65719 Hofheim
END:VEVENT
BEGIN:VEVENT
DTSTAMP:20260425T175350
DTSTART;TZID=Europe/Berlin:20260918T133000
DTEND;TZID=Europe/Berlin:20260918T164500
UID:Z0404926-20260918T133000@VHSMAIN-TAUNUS-KREIS
SUMMARY:Integrationskurs, Alphabetisierung, Modul 5, Kurs 556 (Z0404926) 
LOCATION:Hofheim, vhs, 1.07, Alte Bleiche 5, 65719 Hofheim
END:VEVENT
BEGIN:VEVENT
DTSTAMP:20260425T175350
DTSTART;TZID=Europe/Berlin:20260921T130000
DTEND;TZID=Europe/Berlin:20260921T161500
UID:Z0404926-20260921T130000@VHSMAIN-TAUNUS-KREIS
SUMMARY:Integrationskurs, Alphabetisierung, Modul 5, Kurs 556 (Z0404926) 
LOCATION:Hofheim, vhs, 1.07, Alte Bleiche 5, 65719 Hofheim
END:VEVENT
BEGIN:VEVENT
DTSTAMP:20260425T175350
DTSTART;TZID=Europe/Berlin:20260922T130000
DTEND;TZID=Europe/Berlin:20260922T161500
UID:Z0404926-20260922T130000@VHSMAIN-TAUNUS-KREIS
SUMMARY:Integrationskurs, Alphabetisierung, Modul 5, Kurs 556 (Z0404926) 
LOCATION:Hofheim, vhs, 1.07, Alte Bleiche 5, 65719 Hofheim
END:VEVENT
BEGIN:VEVENT
DTSTAMP:20260425T175350
DTSTART;TZID=Europe/Berlin:20260923T130000
DTEND;TZID=Europe/Berlin:20260923T161500
UID:Z0404926-20260923T130000@VHSMAIN-TAUNUS-KREIS
SUMMARY:Integrationskurs, Alphabetisierung, Modul 5, Kurs 556 (Z0404926) 
LOCATION:Hofheim, vhs, 1.07, Alte Bleiche 5, 65719 Hofheim
END:VEVENT
BEGIN:VEVENT
DTSTAMP:20260425T175350
DTSTART;TZID=Europe/Berlin:20260924T133000
DTEND;TZID=Europe/Berlin:20260924T164500
UID:Z0404926-20260924T133000@VHSMAIN-TAUNUS-KREIS
SUMMARY:Integrationskurs, Alphabetisierung, Modul 5, Kurs 556 (Z0404926) 
LOCATION:Hofheim, vhs, 1.07, Alte Bleiche 5, 65719 Hofheim
END:VEVENT
BEGIN:VEVENT
DTSTAMP:20260425T175350
DTSTART;TZID=Europe/Berlin:20260925T133000
DTEND;TZID=Europe/Berlin:20260925T164500
UID:Z0404926-20260925T133000@VHSMAIN-TAUNUS-KREIS
SUMMARY:Integrationskurs, Alphabetisierung, Modul 5, Kurs 556 (Z0404926) 
LOCATION:Hofheim, vhs, 1.07, Alte Bleiche 5, 65719 Hofheim
END:VEVENT
BEGIN:VEVENT
DTSTAMP:20260425T175350
DTSTART;TZID=Europe/Berlin:20260928T130000
DTEND;TZID=Europe/Berlin:20260928T161500
UID:Z0404926-20260928T130000@VHSMAIN-TAUNUS-KREIS
SUMMARY:Integrationskurs, Alphabetisierung, Modul 5, Kurs 556 (Z0404926) 
LOCATION:Hofheim, vhs, 1.07, Alte Bleiche 5, 65719 Hofheim
END:VEVENT
BEGIN:VEVENT
DTSTAMP:20260425T175350
DTSTART;TZID=Europe/Berlin:20260929T130000
DTEND;TZID=Europe/Berlin:20260929T161500
UID:Z0404926-20260929T130000@VHSMAIN-TAUNUS-KREIS
SUMMARY:Integrationskurs, Alphabetisierung, Modul 5, Kurs 556 (Z0404926) 
LOCATION:Hofheim, vhs, 1.07, Alte Bleiche 5, 65719 Hofheim
END:VEVENT
BEGIN:VEVENT
DTSTAMP:20260425T175350
DTSTART;TZID=Europe/Berlin:20260930T130000
DTEND;TZID=Europe/Berlin:20260930T161500
UID:Z0404926-20260930T130000@VHSMAIN-TAUNUS-KREIS
SUMMARY:Integrationskurs, Alphabetisierung, Modul 5, Kurs 556 (Z0404926) 
LOCATION:Hofheim, vhs, 1.07, Alte Bleiche 5, 65719 Hofheim
END:VEVENT
BEGIN:VEVENT
DTSTAMP:20260425T175350
DTSTART;TZID=Europe/Berlin:20261001T133000
DTEND;TZID=Europe/Berlin:20261001T164500
UID:Z0404926-20261001T133000@VHSMAIN-TAUNUS-KREIS
SUMMARY:Integrationskurs, Alphabetisierung, Modul 5, Kurs 556 (Z0404926) 
LOCATION:Hofheim, vhs, 1.07, Alte Bleiche 5, 65719 Hofheim
END:VEVENT
BEGIN:VEVENT
DTSTAMP:20260425T175350
DTSTART;TZID=Europe/Berlin:20261002T133000
DTEND;TZID=Europe/Berlin:20261002T164500
UID:Z0404926-20261002T133000@VHSMAIN-TAUNUS-KREIS
SUMMARY:Integrationskurs, Alphabetisierung, Modul 5, Kurs 556 (Z0404926) 
LOCATION:Hofheim, vhs, 1.07, Alte Bleiche 5, 65719 Hofheim
END:VEVENT
BEGIN:VEVENT
DTSTAMP:20260425T175350
DTSTART;TZID=Europe/Berlin:20261019T130000
DTEND;TZID=Europe/Berlin:20261019T161500
UID:Z0404926-20261019T130000@VHSMAIN-TAUNUS-KREIS
SUMMARY:Integrationskurs, Alphabetisierung, Modul 5, Kurs 556 (Z0404926) 
LOCATION:Hofheim, vhs, 1.07, Alte Bleiche 5, 65719 Hofheim
END:VEVENT
BEGIN:VEVENT
DTSTAMP:20260425T175350
DTSTART;TZID=Europe/Berlin:20261020T130000
DTEND;TZID=Europe/Berlin:20261020T161500
UID:Z0404926-20261020T130000@VHSMAIN-TAUNUS-KREIS
SUMMARY:Integrationskurs, Alphabetisierung, Modul 5, Kurs 556 (Z0404926) 
LOCATION:Hofheim, vhs, 1.07, Alte Bleiche 5, 65719 Hofheim
END:VEVENT
BEGIN:VEVENT
DTSTAMP:20260425T175350
DTSTART;TZID=Europe/Berlin:20261021T130000
DTEND;TZID=Europe/Berlin:20261021T161500
UID:Z0404926-20261021T130000@VHSMAIN-TAUNUS-KREIS
SUMMARY:Integrationskurs, Alphabetisierung, Modul 5, Kurs 556 (Z0404926) 
LOCATION:Hofheim, vhs, 1.07, Alte Bleiche 5, 65719 Hofheim
END:VEVENT
BEGIN:VEVENT
DTSTAMP:20260425T175350
DTSTART;TZID=Europe/Berlin:20261022T133000
DTEND;TZID=Europe/Berlin:20261022T164500
UID:Z0404926-20261022T133000@VHSMAIN-TAUNUS-KREIS
SUMMARY:Integrationskurs, Alphabetisierung, Modul 5, Kurs 556 (Z0404926) 
LOCATION:Hofheim, vhs, 1.07, Alte Bleiche 5, 65719 Hofheim
END:VEVENT
BEGIN:VEVENT
DTSTAMP:20260425T175350
DTSTART;TZID=Europe/Berlin:20261023T133000
DTEND;TZID=Europe/Berlin:20261023T164500
UID:Z0404926-20261023T133000@VHSMAIN-TAUNUS-KREIS
SUMMARY:Integrationskurs, Alphabetisierung, Modul 5, Kurs 556 (Z0404926) 
LOCATION:Hofheim, vhs, 1.07, Alte Bleiche 5, 65719 Hofheim
END:VEVENT
BEGIN:VEVENT
DTSTAMP:20260425T175350
DTSTART;TZID=Europe/Berlin:20261026T130000
DTEND;TZID=Europe/Berlin:20261026T161500
UID:Z0404926-20261026T130000@VHSMAIN-TAUNUS-KREIS
SUMMARY:Integrationskurs, Alphabetisierung, Modul 5, Kurs 556 (Z0404926) 
LOCATION:Hofheim, vhs, 1.07, Alte Bleiche 5, 65719 Hofheim
END:VEVENT
BEGIN:VEVENT
DTSTAMP:20260425T175350
DTSTART;TZID=Europe/Berlin:20261027T130000
DTEND;TZID=Europe/Berlin:20261027T161500
UID:Z0404926-20261027T130000@VHSMAIN-TAUNUS-KREIS
SUMMARY:Integrationskurs, Alphabetisierung, Modul 5, Kurs 556 (Z0404926) 
LOCATION:Hofheim, vhs, 1.07, Alte Bleiche 5, 65719 Hofheim
END:VEVENT
BEGIN:VEVENT
DTSTAMP:20260425T175350
DTSTART;TZID=Europe/Berlin:20261028T130000
DTEND;TZID=Europe/Berlin:20261028T161500
UID:Z0404926-20261028T130000@VHSMAIN-TAUNUS-KREIS
SUMMARY:Integrationskurs, Alphabetisierung, Modul 5, Kurs 556 (Z0404926) 
LOCATION:Hofheim, vhs, 1.07, Alte Bleiche 5, 65719 Hofheim
END:VEVENT
BEGIN:VEVENT
DTSTAMP:20260425T175350
DTSTART;TZID=Europe/Berlin:20261029T130000
DTEND;TZID=Europe/Berlin:20261029T161500
UID:Z0404926-20261029T130000@VHSMAIN-TAUNUS-KREIS
SUMMARY:Integrationskurs, Alphabetisierung, Modul 5, Kurs 556 (Z0404926) 
LOCATION:Hofheim, vhs, 1.07, Alte Bleiche 5, 65719 Hofheim
END:VEVENT
END:VCALENDAR