BEGIN:VCALENDAR
VERSION:2.0
PRODID:https://www.kufer.de/kuferweb / DE
METHOD:PUBLISH
CALSCALE:GREGORIAN
X-WR-TIMEZONE:Europe/Berlin
BEGIN:VTIMEZONE
TZID:Europe/Berlin
X-LIC-LOCATION:Europe/Berlin
BEGIN:DAYLIGHT
TZOFFSETFROM:+0100
TZOFFSETTO:+0200
TZNAME:CEST
DTSTART:19700329T020000
RRULE:FREQ=YEARLY;INTERVAL=1;BYDAY=-1SU;BYMONTH=3
END:DAYLIGHT
BEGIN:STANDARD
TZOFFSETFROM:+0200
TZOFFSETTO:+0100
TZNAME:CET
DTSTART:19701025T030000
RRULE:FREQ=YEARLY;INTERVAL=1;BYDAY=-1SU;BYMONTH=10
END:STANDARD
END:VTIMEZONE
BEGIN:VEVENT
DTSTAMP:20260425T013620
DTSTART;TZID=Europe/Berlin:20260629T090000
DTEND;TZID=Europe/Berlin:20260629T130000
UID:Y7505100-20260629T090000@VHSMAIN-TAUNUS-KREIS
SUMMARY:Computerführerschein für Kids & Teens ab 10 Jahren - Office, Word, Excel & Powerpoint (Y7505100) 
LOCATION:Hofheim, vhs, 2.01, Alte Bleiche 5, 65719 Hofheim
END:VEVENT
BEGIN:VEVENT
DTSTAMP:20260425T013620
DTSTART;TZID=Europe/Berlin:20260630T090000
DTEND;TZID=Europe/Berlin:20260630T130000
UID:Y7505100-20260630T090000@VHSMAIN-TAUNUS-KREIS
SUMMARY:Computerführerschein für Kids & Teens ab 10 Jahren - Office, Word, Excel & Powerpoint (Y7505100) 
LOCATION:Hofheim, vhs, 2.01, Alte Bleiche 5, 65719 Hofheim
END:VEVENT
BEGIN:VEVENT
DTSTAMP:20260425T013620
DTSTART;TZID=Europe/Berlin:20260701T090000
DTEND;TZID=Europe/Berlin:20260701T130000
UID:Y7505100-20260701T090000@VHSMAIN-TAUNUS-KREIS
SUMMARY:Computerführerschein für Kids & Teens ab 10 Jahren - Office, Word, Excel & Powerpoint (Y7505100) 
LOCATION:Hofheim, vhs, 2.01, Alte Bleiche 5, 65719 Hofheim
END:VEVENT
BEGIN:VEVENT
DTSTAMP:20260425T013620
DTSTART;TZID=Europe/Berlin:20260702T090000
DTEND;TZID=Europe/Berlin:20260702T130000
UID:Y7505100-20260702T090000@VHSMAIN-TAUNUS-KREIS
SUMMARY:Computerführerschein für Kids & Teens ab 10 Jahren - Office, Word, Excel & Powerpoint (Y7505100) 
LOCATION:Hofheim, vhs, 2.01, Alte Bleiche 5, 65719 Hofheim
END:VEVENT
BEGIN:VEVENT
DTSTAMP:20260425T013620
DTSTART;TZID=Europe/Berlin:20260703T090000
DTEND;TZID=Europe/Berlin:20260703T130000
UID:Y7505100-20260703T090000@VHSMAIN-TAUNUS-KREIS
SUMMARY:Computerführerschein für Kids & Teens ab 10 Jahren - Office, Word, Excel & Powerpoint (Y7505100) 
LOCATION:Hofheim, vhs, 2.01, Alte Bleiche 5, 65719 Hofheim
END:VEVENT
END:VCALENDAR