BEGIN:VCALENDAR
VERSION:2.0
PRODID:https://www.kufer.de/kuferweb / DE
METHOD:PUBLISH
CALSCALE:GREGORIAN
X-WR-TIMEZONE:Europe/Berlin
BEGIN:VTIMEZONE
TZID:Europe/Berlin
X-LIC-LOCATION:Europe/Berlin
BEGIN:DAYLIGHT
TZOFFSETFROM:+0100
TZOFFSETTO:+0200
TZNAME:CEST
DTSTART:19700329T020000
RRULE:FREQ=YEARLY;INTERVAL=1;BYDAY=-1SU;BYMONTH=3
END:DAYLIGHT
BEGIN:STANDARD
TZOFFSETFROM:+0200
TZOFFSETTO:+0100
TZNAME:CET
DTSTART:19701025T030000
RRULE:FREQ=YEARLY;INTERVAL=1;BYDAY=-1SU;BYMONTH=10
END:STANDARD
END:VTIMEZONE
BEGIN:VEVENT
DTSTAMP:20260425T150841
DTSTART;TZID=Europe/Berlin:20260211T101500
DTEND;TZID=Europe/Berlin:20260211T114500
UID:Y0406155-20260211T101500@VHSMAIN-TAUNUS-KREIS
SUMMARY:Englisch B2 (Y0406155) 
LOCATION:Bad Soden, Altes Badehaus, Königsteiner Straße 86, 65812 Bad Soden
END:VEVENT
BEGIN:VEVENT
DTSTAMP:20260425T150841
DTSTART;TZID=Europe/Berlin:20260218T101500
DTEND;TZID=Europe/Berlin:20260218T114500
UID:Y0406155-20260218T101500@VHSMAIN-TAUNUS-KREIS
SUMMARY:Englisch B2 (Y0406155) 
LOCATION:Bad Soden, Altes Badehaus, Königsteiner Straße 86, 65812 Bad Soden
END:VEVENT
BEGIN:VEVENT
DTSTAMP:20260425T150841
DTSTART;TZID=Europe/Berlin:20260225T101500
DTEND;TZID=Europe/Berlin:20260225T114500
UID:Y0406155-20260225T101500@VHSMAIN-TAUNUS-KREIS
SUMMARY:Englisch B2 (Y0406155) 
LOCATION:Bad Soden, Altes Badehaus, Königsteiner Straße 86, 65812 Bad Soden
END:VEVENT
BEGIN:VEVENT
DTSTAMP:20260425T150841
DTSTART;TZID=Europe/Berlin:20260304T101500
DTEND;TZID=Europe/Berlin:20260304T114500
UID:Y0406155-20260304T101500@VHSMAIN-TAUNUS-KREIS
SUMMARY:Englisch B2 (Y0406155) 
LOCATION:Bad Soden, Altes Badehaus, Königsteiner Straße 86, 65812 Bad Soden
END:VEVENT
BEGIN:VEVENT
DTSTAMP:20260425T150841
DTSTART;TZID=Europe/Berlin:20260311T101500
DTEND;TZID=Europe/Berlin:20260311T114500
UID:Y0406155-20260311T101500@VHSMAIN-TAUNUS-KREIS
SUMMARY:Englisch B2 (Y0406155) 
LOCATION:Bad Soden, Altes Badehaus, Königsteiner Straße 86, 65812 Bad Soden
END:VEVENT
BEGIN:VEVENT
DTSTAMP:20260425T150841
DTSTART;TZID=Europe/Berlin:20260318T101500
DTEND;TZID=Europe/Berlin:20260318T114500
UID:Y0406155-20260318T101500@VHSMAIN-TAUNUS-KREIS
SUMMARY:Englisch B2 (Y0406155) 
LOCATION:Bad Soden, Altes Badehaus, Königsteiner Straße 86, 65812 Bad Soden
END:VEVENT
BEGIN:VEVENT
DTSTAMP:20260425T150841
DTSTART;TZID=Europe/Berlin:20260325T101500
DTEND;TZID=Europe/Berlin:20260325T114500
UID:Y0406155-20260325T101500@VHSMAIN-TAUNUS-KREIS
SUMMARY:Englisch B2 (Y0406155) 
LOCATION:Bad Soden, Altes Badehaus, Königsteiner Straße 86, 65812 Bad Soden
END:VEVENT
BEGIN:VEVENT
DTSTAMP:20260425T150841
DTSTART;TZID=Europe/Berlin:20260415T101500
DTEND;TZID=Europe/Berlin:20260415T114500
UID:Y0406155-20260415T101500@VHSMAIN-TAUNUS-KREIS
SUMMARY:Englisch B2 (Y0406155) 
LOCATION:Bad Soden, Altes Badehaus, Königsteiner Straße 86, 65812 Bad Soden
END:VEVENT
BEGIN:VEVENT
DTSTAMP:20260425T150841
DTSTART;TZID=Europe/Berlin:20260422T101500
DTEND;TZID=Europe/Berlin:20260422T114500
UID:Y0406155-20260422T101500@VHSMAIN-TAUNUS-KREIS
SUMMARY:Englisch B2 (Y0406155) 
LOCATION:Bad Soden, Altes Badehaus, Königsteiner Straße 86, 65812 Bad Soden
END:VEVENT
BEGIN:VEVENT
DTSTAMP:20260425T150841
DTSTART;TZID=Europe/Berlin:20260429T101500
DTEND;TZID=Europe/Berlin:20260429T114500
UID:Y0406155-20260429T101500@VHSMAIN-TAUNUS-KREIS
SUMMARY:Englisch B2 (Y0406155) 
LOCATION:Bad Soden, Altes Badehaus, Königsteiner Straße 86, 65812 Bad Soden
END:VEVENT
BEGIN:VEVENT
DTSTAMP:20260425T150841
DTSTART;TZID=Europe/Berlin:20260506T101500
DTEND;TZID=Europe/Berlin:20260506T114500
UID:Y0406155-20260506T101500@VHSMAIN-TAUNUS-KREIS
SUMMARY:Englisch B2 (Y0406155) 
LOCATION:Bad Soden, Altes Badehaus, Königsteiner Straße 86, 65812 Bad Soden
END:VEVENT
BEGIN:VEVENT
DTSTAMP:20260425T150841
DTSTART;TZID=Europe/Berlin:20260513T101500
DTEND;TZID=Europe/Berlin:20260513T114500
UID:Y0406155-20260513T101500@VHSMAIN-TAUNUS-KREIS
SUMMARY:Englisch B2 (Y0406155) 
LOCATION:Bad Soden, Altes Badehaus, Königsteiner Straße 86, 65812 Bad Soden
END:VEVENT
END:VCALENDAR