BEGIN:VCALENDAR
VERSION:2.0
PRODID:https://www.kufer.de/kuferweb / DE
METHOD:PUBLISH
CALSCALE:GREGORIAN
X-WR-TIMEZONE:Europe/Berlin
BEGIN:VTIMEZONE
TZID:Europe/Berlin
X-LIC-LOCATION:Europe/Berlin
BEGIN:DAYLIGHT
TZOFFSETFROM:+0100
TZOFFSETTO:+0200
TZNAME:CEST
DTSTART:19700329T020000
RRULE:FREQ=YEARLY;INTERVAL=1;BYDAY=-1SU;BYMONTH=3
END:DAYLIGHT
BEGIN:STANDARD
TZOFFSETFROM:+0200
TZOFFSETTO:+0100
TZNAME:CET
DTSTART:19701025T030000
RRULE:FREQ=YEARLY;INTERVAL=1;BYDAY=-1SU;BYMONTH=10
END:STANDARD
END:VTIMEZONE
BEGIN:VEVENT
DTSTAMP:20260425T201152
DTSTART;TZID=Europe/Berlin:20260825T133000
DTEND;TZID=Europe/Berlin:20260825T164500
UID:Y0404992-20260825T133000@VHSMAIN-TAUNUS-KREIS
SUMMARY:Integrationskurs, Zweitschriftlerner, Modul 3, Kurs 550 (Y0404992) 
LOCATION:Hofheim, vhs, 1.05.1, Alte Bleiche 5, 65719 Hofheim
END:VEVENT
BEGIN:VEVENT
DTSTAMP:20260425T201152
DTSTART;TZID=Europe/Berlin:20260826T133000
DTEND;TZID=Europe/Berlin:20260826T164500
UID:Y0404992-20260826T133000@VHSMAIN-TAUNUS-KREIS
SUMMARY:Integrationskurs, Zweitschriftlerner, Modul 3, Kurs 550 (Y0404992) 
LOCATION:Hofheim, vhs, 1.05.1, Alte Bleiche 5, 65719 Hofheim
END:VEVENT
BEGIN:VEVENT
DTSTAMP:20260425T201152
DTSTART;TZID=Europe/Berlin:20260827T133000
DTEND;TZID=Europe/Berlin:20260827T164500
UID:Y0404992-20260827T133000@VHSMAIN-TAUNUS-KREIS
SUMMARY:Integrationskurs, Zweitschriftlerner, Modul 3, Kurs 550 (Y0404992) 
LOCATION:Hofheim, vhs, 1.05.1, Alte Bleiche 5, 65719 Hofheim
END:VEVENT
BEGIN:VEVENT
DTSTAMP:20260425T201152
DTSTART;TZID=Europe/Berlin:20260831T133000
DTEND;TZID=Europe/Berlin:20260831T164500
UID:Y0404992-20260831T133000@VHSMAIN-TAUNUS-KREIS
SUMMARY:Integrationskurs, Zweitschriftlerner, Modul 3, Kurs 550 (Y0404992) 
LOCATION:Hofheim, vhs, 1.05.1, Alte Bleiche 5, 65719 Hofheim
END:VEVENT
BEGIN:VEVENT
DTSTAMP:20260425T201152
DTSTART;TZID=Europe/Berlin:20260901T133000
DTEND;TZID=Europe/Berlin:20260901T164500
UID:Y0404992-20260901T133000@VHSMAIN-TAUNUS-KREIS
SUMMARY:Integrationskurs, Zweitschriftlerner, Modul 3, Kurs 550 (Y0404992) 
LOCATION:Hofheim, vhs, 1.05.1, Alte Bleiche 5, 65719 Hofheim
END:VEVENT
BEGIN:VEVENT
DTSTAMP:20260425T201152
DTSTART;TZID=Europe/Berlin:20260902T133000
DTEND;TZID=Europe/Berlin:20260902T164500
UID:Y0404992-20260902T133000@VHSMAIN-TAUNUS-KREIS
SUMMARY:Integrationskurs, Zweitschriftlerner, Modul 3, Kurs 550 (Y0404992) 
LOCATION:Hofheim, vhs, 1.05.1, Alte Bleiche 5, 65719 Hofheim
END:VEVENT
BEGIN:VEVENT
DTSTAMP:20260425T201152
DTSTART;TZID=Europe/Berlin:20260903T133000
DTEND;TZID=Europe/Berlin:20260903T164500
UID:Y0404992-20260903T133000@VHSMAIN-TAUNUS-KREIS
SUMMARY:Integrationskurs, Zweitschriftlerner, Modul 3, Kurs 550 (Y0404992) 
LOCATION:Hofheim, vhs, 1.05.1, Alte Bleiche 5, 65719 Hofheim
END:VEVENT
BEGIN:VEVENT
DTSTAMP:20260425T201152
DTSTART;TZID=Europe/Berlin:20260907T133000
DTEND;TZID=Europe/Berlin:20260907T164500
UID:Y0404992-20260907T133000@VHSMAIN-TAUNUS-KREIS
SUMMARY:Integrationskurs, Zweitschriftlerner, Modul 3, Kurs 550 (Y0404992) 
LOCATION:Hofheim, vhs, 1.05.1, Alte Bleiche 5, 65719 Hofheim
END:VEVENT
BEGIN:VEVENT
DTSTAMP:20260425T201152
DTSTART;TZID=Europe/Berlin:20260908T133000
DTEND;TZID=Europe/Berlin:20260908T164500
UID:Y0404992-20260908T133000@VHSMAIN-TAUNUS-KREIS
SUMMARY:Integrationskurs, Zweitschriftlerner, Modul 3, Kurs 550 (Y0404992) 
LOCATION:Hofheim, vhs, 1.05.1, Alte Bleiche 5, 65719 Hofheim
END:VEVENT
BEGIN:VEVENT
DTSTAMP:20260425T201152
DTSTART;TZID=Europe/Berlin:20260909T133000
DTEND;TZID=Europe/Berlin:20260909T164500
UID:Y0404992-20260909T133000@VHSMAIN-TAUNUS-KREIS
SUMMARY:Integrationskurs, Zweitschriftlerner, Modul 3, Kurs 550 (Y0404992) 
LOCATION:Hofheim, vhs, 1.05.1, Alte Bleiche 5, 65719 Hofheim
END:VEVENT
BEGIN:VEVENT
DTSTAMP:20260425T201152
DTSTART;TZID=Europe/Berlin:20260910T133000
DTEND;TZID=Europe/Berlin:20260910T164500
UID:Y0404992-20260910T133000@VHSMAIN-TAUNUS-KREIS
SUMMARY:Integrationskurs, Zweitschriftlerner, Modul 3, Kurs 550 (Y0404992) 
LOCATION:Hofheim, vhs, 1.05.1, Alte Bleiche 5, 65719 Hofheim
END:VEVENT
BEGIN:VEVENT
DTSTAMP:20260425T201152
DTSTART;TZID=Europe/Berlin:20260914T133000
DTEND;TZID=Europe/Berlin:20260914T164500
UID:Y0404992-20260914T133000@VHSMAIN-TAUNUS-KREIS
SUMMARY:Integrationskurs, Zweitschriftlerner, Modul 3, Kurs 550 (Y0404992) 
LOCATION:Hofheim, vhs, 1.05.1, Alte Bleiche 5, 65719 Hofheim
END:VEVENT
BEGIN:VEVENT
DTSTAMP:20260425T201152
DTSTART;TZID=Europe/Berlin:20260915T133000
DTEND;TZID=Europe/Berlin:20260915T164500
UID:Y0404992-20260915T133000@VHSMAIN-TAUNUS-KREIS
SUMMARY:Integrationskurs, Zweitschriftlerner, Modul 3, Kurs 550 (Y0404992) 
LOCATION:Hofheim, vhs, 1.05.1, Alte Bleiche 5, 65719 Hofheim
END:VEVENT
BEGIN:VEVENT
DTSTAMP:20260425T201152
DTSTART;TZID=Europe/Berlin:20260916T133000
DTEND;TZID=Europe/Berlin:20260916T164500
UID:Y0404992-20260916T133000@VHSMAIN-TAUNUS-KREIS
SUMMARY:Integrationskurs, Zweitschriftlerner, Modul 3, Kurs 550 (Y0404992) 
LOCATION:Hofheim, vhs, 1.05.1, Alte Bleiche 5, 65719 Hofheim
END:VEVENT
BEGIN:VEVENT
DTSTAMP:20260425T201152
DTSTART;TZID=Europe/Berlin:20260917T133000
DTEND;TZID=Europe/Berlin:20260917T164500
UID:Y0404992-20260917T133000@VHSMAIN-TAUNUS-KREIS
SUMMARY:Integrationskurs, Zweitschriftlerner, Modul 3, Kurs 550 (Y0404992) 
LOCATION:Hofheim, vhs, 1.05.1, Alte Bleiche 5, 65719 Hofheim
END:VEVENT
BEGIN:VEVENT
DTSTAMP:20260425T201152
DTSTART;TZID=Europe/Berlin:20260921T133000
DTEND;TZID=Europe/Berlin:20260921T164500
UID:Y0404992-20260921T133000@VHSMAIN-TAUNUS-KREIS
SUMMARY:Integrationskurs, Zweitschriftlerner, Modul 3, Kurs 550 (Y0404992) 
LOCATION:Hofheim, vhs, 1.05.1, Alte Bleiche 5, 65719 Hofheim
END:VEVENT
BEGIN:VEVENT
DTSTAMP:20260425T201152
DTSTART;TZID=Europe/Berlin:20260922T133000
DTEND;TZID=Europe/Berlin:20260922T164500
UID:Y0404992-20260922T133000@VHSMAIN-TAUNUS-KREIS
SUMMARY:Integrationskurs, Zweitschriftlerner, Modul 3, Kurs 550 (Y0404992) 
LOCATION:Hofheim, vhs, 1.05.1, Alte Bleiche 5, 65719 Hofheim
END:VEVENT
BEGIN:VEVENT
DTSTAMP:20260425T201152
DTSTART;TZID=Europe/Berlin:20260923T133000
DTEND;TZID=Europe/Berlin:20260923T164500
UID:Y0404992-20260923T133000@VHSMAIN-TAUNUS-KREIS
SUMMARY:Integrationskurs, Zweitschriftlerner, Modul 3, Kurs 550 (Y0404992) 
LOCATION:Hofheim, vhs, 1.05.1, Alte Bleiche 5, 65719 Hofheim
END:VEVENT
BEGIN:VEVENT
DTSTAMP:20260425T201152
DTSTART;TZID=Europe/Berlin:20260924T133000
DTEND;TZID=Europe/Berlin:20260924T164500
UID:Y0404992-20260924T133000@VHSMAIN-TAUNUS-KREIS
SUMMARY:Integrationskurs, Zweitschriftlerner, Modul 3, Kurs 550 (Y0404992) 
LOCATION:Hofheim, vhs, 1.05.1, Alte Bleiche 5, 65719 Hofheim
END:VEVENT
BEGIN:VEVENT
DTSTAMP:20260425T201152
DTSTART;TZID=Europe/Berlin:20260928T133000
DTEND;TZID=Europe/Berlin:20260928T164500
UID:Y0404992-20260928T133000@VHSMAIN-TAUNUS-KREIS
SUMMARY:Integrationskurs, Zweitschriftlerner, Modul 3, Kurs 550 (Y0404992) 
LOCATION:Hofheim, vhs, 1.05.1, Alte Bleiche 5, 65719 Hofheim
END:VEVENT
BEGIN:VEVENT
DTSTAMP:20260425T201152
DTSTART;TZID=Europe/Berlin:20260929T133000
DTEND;TZID=Europe/Berlin:20260929T164500
UID:Y0404992-20260929T133000@VHSMAIN-TAUNUS-KREIS
SUMMARY:Integrationskurs, Zweitschriftlerner, Modul 3, Kurs 550 (Y0404992) 
LOCATION:Hofheim, vhs, 1.05.1, Alte Bleiche 5, 65719 Hofheim
END:VEVENT
BEGIN:VEVENT
DTSTAMP:20260425T201152
DTSTART;TZID=Europe/Berlin:20260930T133000
DTEND;TZID=Europe/Berlin:20260930T164500
UID:Y0404992-20260930T133000@VHSMAIN-TAUNUS-KREIS
SUMMARY:Integrationskurs, Zweitschriftlerner, Modul 3, Kurs 550 (Y0404992) 
LOCATION:Hofheim, vhs, 1.05.1, Alte Bleiche 5, 65719 Hofheim
END:VEVENT
BEGIN:VEVENT
DTSTAMP:20260425T201152
DTSTART;TZID=Europe/Berlin:20261001T133000
DTEND;TZID=Europe/Berlin:20261001T164500
UID:Y0404992-20261001T133000@VHSMAIN-TAUNUS-KREIS
SUMMARY:Integrationskurs, Zweitschriftlerner, Modul 3, Kurs 550 (Y0404992) 
LOCATION:Hofheim, vhs, 1.05.1, Alte Bleiche 5, 65719 Hofheim
END:VEVENT
BEGIN:VEVENT
DTSTAMP:20260425T201152
DTSTART;TZID=Europe/Berlin:20261019T133000
DTEND;TZID=Europe/Berlin:20261019T164500
UID:Y0404992-20261019T133000@VHSMAIN-TAUNUS-KREIS
SUMMARY:Integrationskurs, Zweitschriftlerner, Modul 3, Kurs 550 (Y0404992) 
LOCATION:Hofheim, vhs, 1.05.1, Alte Bleiche 5, 65719 Hofheim
END:VEVENT
BEGIN:VEVENT
DTSTAMP:20260425T201152
DTSTART;TZID=Europe/Berlin:20261020T133000
DTEND;TZID=Europe/Berlin:20261020T164500
UID:Y0404992-20261020T133000@VHSMAIN-TAUNUS-KREIS
SUMMARY:Integrationskurs, Zweitschriftlerner, Modul 3, Kurs 550 (Y0404992) 
LOCATION:Hofheim, vhs, 1.05.1, Alte Bleiche 5, 65719 Hofheim
END:VEVENT
END:VCALENDAR