BEGIN:VCALENDAR
VERSION:2.0
PRODID:https://www.kufer.de/kuferweb / DE
METHOD:PUBLISH
CALSCALE:GREGORIAN
X-WR-TIMEZONE:Europe/Berlin
BEGIN:VTIMEZONE
TZID:Europe/Berlin
X-LIC-LOCATION:Europe/Berlin
BEGIN:DAYLIGHT
TZOFFSETFROM:+0100
TZOFFSETTO:+0200
TZNAME:CEST
DTSTART:19700329T020000
RRULE:FREQ=YEARLY;INTERVAL=1;BYDAY=-1SU;BYMONTH=3
END:DAYLIGHT
BEGIN:STANDARD
TZOFFSETFROM:+0200
TZOFFSETTO:+0100
TZNAME:CET
DTSTART:19701025T030000
RRULE:FREQ=YEARLY;INTERVAL=1;BYDAY=-1SU;BYMONTH=10
END:STANDARD
END:VTIMEZONE
BEGIN:VEVENT
DTSTAMP:20260425T175442
DTSTART;TZID=Europe/Berlin:20260811T130000
DTEND;TZID=Europe/Berlin:20260811T161500
UID:Y0404934-20260811T130000@VHSMAIN-TAUNUS-KREIS
SUMMARY:Integrationskurs, Alphabetisierung, Modul 8, Kurs 534 (Y0404934) 
LOCATION:Hofheim, vhs, 2.07, Alte Bleiche 5, 65719 Hofheim
END:VEVENT
BEGIN:VEVENT
DTSTAMP:20260425T175442
DTSTART;TZID=Europe/Berlin:20260812T130000
DTEND;TZID=Europe/Berlin:20260812T161500
UID:Y0404934-20260812T130000@VHSMAIN-TAUNUS-KREIS
SUMMARY:Integrationskurs, Alphabetisierung, Modul 8, Kurs 534 (Y0404934) 
LOCATION:Hofheim, vhs, 2.07, Alte Bleiche 5, 65719 Hofheim
END:VEVENT
BEGIN:VEVENT
DTSTAMP:20260425T175442
DTSTART;TZID=Europe/Berlin:20260813T130000
DTEND;TZID=Europe/Berlin:20260813T161500
UID:Y0404934-20260813T130000@VHSMAIN-TAUNUS-KREIS
SUMMARY:Integrationskurs, Alphabetisierung, Modul 8, Kurs 534 (Y0404934) 
LOCATION:Hofheim, vhs, 2.07, Alte Bleiche 5, 65719 Hofheim
END:VEVENT
BEGIN:VEVENT
DTSTAMP:20260425T175442
DTSTART;TZID=Europe/Berlin:20260814T130000
DTEND;TZID=Europe/Berlin:20260814T161500
UID:Y0404934-20260814T130000@VHSMAIN-TAUNUS-KREIS
SUMMARY:Integrationskurs, Alphabetisierung, Modul 8, Kurs 534 (Y0404934) 
LOCATION:Hofheim, vhs, 2.07, Alte Bleiche 5, 65719 Hofheim
END:VEVENT
BEGIN:VEVENT
DTSTAMP:20260425T175442
DTSTART;TZID=Europe/Berlin:20260818T130000
DTEND;TZID=Europe/Berlin:20260818T161500
UID:Y0404934-20260818T130000@VHSMAIN-TAUNUS-KREIS
SUMMARY:Integrationskurs, Alphabetisierung, Modul 8, Kurs 534 (Y0404934) 
LOCATION:Hofheim, vhs, 2.07, Alte Bleiche 5, 65719 Hofheim
END:VEVENT
BEGIN:VEVENT
DTSTAMP:20260425T175442
DTSTART;TZID=Europe/Berlin:20260819T130000
DTEND;TZID=Europe/Berlin:20260819T161500
UID:Y0404934-20260819T130000@VHSMAIN-TAUNUS-KREIS
SUMMARY:Integrationskurs, Alphabetisierung, Modul 8, Kurs 534 (Y0404934) 
LOCATION:Hofheim, vhs, 2.07, Alte Bleiche 5, 65719 Hofheim
END:VEVENT
BEGIN:VEVENT
DTSTAMP:20260425T175442
DTSTART;TZID=Europe/Berlin:20260820T130000
DTEND;TZID=Europe/Berlin:20260820T161500
UID:Y0404934-20260820T130000@VHSMAIN-TAUNUS-KREIS
SUMMARY:Integrationskurs, Alphabetisierung, Modul 8, Kurs 534 (Y0404934) 
LOCATION:Hofheim, vhs, 2.07, Alte Bleiche 5, 65719 Hofheim
END:VEVENT
BEGIN:VEVENT
DTSTAMP:20260425T175442
DTSTART;TZID=Europe/Berlin:20260821T130000
DTEND;TZID=Europe/Berlin:20260821T161500
UID:Y0404934-20260821T130000@VHSMAIN-TAUNUS-KREIS
SUMMARY:Integrationskurs, Alphabetisierung, Modul 8, Kurs 534 (Y0404934) 
LOCATION:Hofheim, vhs, 2.07, Alte Bleiche 5, 65719 Hofheim
END:VEVENT
BEGIN:VEVENT
DTSTAMP:20260425T175442
DTSTART;TZID=Europe/Berlin:20260825T130000
DTEND;TZID=Europe/Berlin:20260825T161500
UID:Y0404934-20260825T130000@VHSMAIN-TAUNUS-KREIS
SUMMARY:Integrationskurs, Alphabetisierung, Modul 8, Kurs 534 (Y0404934) 
LOCATION:Hofheim, vhs, 2.07, Alte Bleiche 5, 65719 Hofheim
END:VEVENT
BEGIN:VEVENT
DTSTAMP:20260425T175442
DTSTART;TZID=Europe/Berlin:20260826T130000
DTEND;TZID=Europe/Berlin:20260826T161500
UID:Y0404934-20260826T130000@VHSMAIN-TAUNUS-KREIS
SUMMARY:Integrationskurs, Alphabetisierung, Modul 8, Kurs 534 (Y0404934) 
LOCATION:Hofheim, vhs, 2.07, Alte Bleiche 5, 65719 Hofheim
END:VEVENT
BEGIN:VEVENT
DTSTAMP:20260425T175442
DTSTART;TZID=Europe/Berlin:20260827T130000
DTEND;TZID=Europe/Berlin:20260827T161500
UID:Y0404934-20260827T130000@VHSMAIN-TAUNUS-KREIS
SUMMARY:Integrationskurs, Alphabetisierung, Modul 8, Kurs 534 (Y0404934) 
LOCATION:Hofheim, vhs, 2.07, Alte Bleiche 5, 65719 Hofheim
END:VEVENT
BEGIN:VEVENT
DTSTAMP:20260425T175442
DTSTART;TZID=Europe/Berlin:20260828T130000
DTEND;TZID=Europe/Berlin:20260828T161500
UID:Y0404934-20260828T130000@VHSMAIN-TAUNUS-KREIS
SUMMARY:Integrationskurs, Alphabetisierung, Modul 8, Kurs 534 (Y0404934) 
LOCATION:Hofheim, vhs, 2.07, Alte Bleiche 5, 65719 Hofheim
END:VEVENT
BEGIN:VEVENT
DTSTAMP:20260425T175442
DTSTART;TZID=Europe/Berlin:20260901T130000
DTEND;TZID=Europe/Berlin:20260901T161500
UID:Y0404934-20260901T130000@VHSMAIN-TAUNUS-KREIS
SUMMARY:Integrationskurs, Alphabetisierung, Modul 8, Kurs 534 (Y0404934) 
LOCATION:Hofheim, vhs, 2.07, Alte Bleiche 5, 65719 Hofheim
END:VEVENT
BEGIN:VEVENT
DTSTAMP:20260425T175442
DTSTART;TZID=Europe/Berlin:20260902T130000
DTEND;TZID=Europe/Berlin:20260902T161500
UID:Y0404934-20260902T130000@VHSMAIN-TAUNUS-KREIS
SUMMARY:Integrationskurs, Alphabetisierung, Modul 8, Kurs 534 (Y0404934) 
LOCATION:Hofheim, vhs, 2.07, Alte Bleiche 5, 65719 Hofheim
END:VEVENT
BEGIN:VEVENT
DTSTAMP:20260425T175442
DTSTART;TZID=Europe/Berlin:20260903T130000
DTEND;TZID=Europe/Berlin:20260903T161500
UID:Y0404934-20260903T130000@VHSMAIN-TAUNUS-KREIS
SUMMARY:Integrationskurs, Alphabetisierung, Modul 8, Kurs 534 (Y0404934) 
LOCATION:Hofheim, vhs, 2.07, Alte Bleiche 5, 65719 Hofheim
END:VEVENT
BEGIN:VEVENT
DTSTAMP:20260425T175442
DTSTART;TZID=Europe/Berlin:20260904T130000
DTEND;TZID=Europe/Berlin:20260904T161500
UID:Y0404934-20260904T130000@VHSMAIN-TAUNUS-KREIS
SUMMARY:Integrationskurs, Alphabetisierung, Modul 8, Kurs 534 (Y0404934) 
LOCATION:Hofheim, vhs, 2.07, Alte Bleiche 5, 65719 Hofheim
END:VEVENT
BEGIN:VEVENT
DTSTAMP:20260425T175442
DTSTART;TZID=Europe/Berlin:20260908T130000
DTEND;TZID=Europe/Berlin:20260908T161500
UID:Y0404934-20260908T130000@VHSMAIN-TAUNUS-KREIS
SUMMARY:Integrationskurs, Alphabetisierung, Modul 8, Kurs 534 (Y0404934) 
LOCATION:Hofheim, vhs, 2.07, Alte Bleiche 5, 65719 Hofheim
END:VEVENT
BEGIN:VEVENT
DTSTAMP:20260425T175442
DTSTART;TZID=Europe/Berlin:20260909T130000
DTEND;TZID=Europe/Berlin:20260909T161500
UID:Y0404934-20260909T130000@VHSMAIN-TAUNUS-KREIS
SUMMARY:Integrationskurs, Alphabetisierung, Modul 8, Kurs 534 (Y0404934) 
LOCATION:Hofheim, vhs, 2.07, Alte Bleiche 5, 65719 Hofheim
END:VEVENT
BEGIN:VEVENT
DTSTAMP:20260425T175442
DTSTART;TZID=Europe/Berlin:20260910T130000
DTEND;TZID=Europe/Berlin:20260910T161500
UID:Y0404934-20260910T130000@VHSMAIN-TAUNUS-KREIS
SUMMARY:Integrationskurs, Alphabetisierung, Modul 8, Kurs 534 (Y0404934) 
LOCATION:Hofheim, vhs, 2.07, Alte Bleiche 5, 65719 Hofheim
END:VEVENT
BEGIN:VEVENT
DTSTAMP:20260425T175442
DTSTART;TZID=Europe/Berlin:20260911T130000
DTEND;TZID=Europe/Berlin:20260911T161500
UID:Y0404934-20260911T130000@VHSMAIN-TAUNUS-KREIS
SUMMARY:Integrationskurs, Alphabetisierung, Modul 8, Kurs 534 (Y0404934) 
LOCATION:Hofheim, vhs, 2.07, Alte Bleiche 5, 65719 Hofheim
END:VEVENT
BEGIN:VEVENT
DTSTAMP:20260425T175442
DTSTART;TZID=Europe/Berlin:20260915T130000
DTEND;TZID=Europe/Berlin:20260915T161500
UID:Y0404934-20260915T130000@VHSMAIN-TAUNUS-KREIS
SUMMARY:Integrationskurs, Alphabetisierung, Modul 8, Kurs 534 (Y0404934) 
LOCATION:Hofheim, vhs, 2.07, Alte Bleiche 5, 65719 Hofheim
END:VEVENT
BEGIN:VEVENT
DTSTAMP:20260425T175442
DTSTART;TZID=Europe/Berlin:20260916T130000
DTEND;TZID=Europe/Berlin:20260916T161500
UID:Y0404934-20260916T130000@VHSMAIN-TAUNUS-KREIS
SUMMARY:Integrationskurs, Alphabetisierung, Modul 8, Kurs 534 (Y0404934) 
LOCATION:Hofheim, vhs, 2.07, Alte Bleiche 5, 65719 Hofheim
END:VEVENT
BEGIN:VEVENT
DTSTAMP:20260425T175442
DTSTART;TZID=Europe/Berlin:20260917T130000
DTEND;TZID=Europe/Berlin:20260917T161500
UID:Y0404934-20260917T130000@VHSMAIN-TAUNUS-KREIS
SUMMARY:Integrationskurs, Alphabetisierung, Modul 8, Kurs 534 (Y0404934) 
LOCATION:Hofheim, vhs, 2.07, Alte Bleiche 5, 65719 Hofheim
END:VEVENT
BEGIN:VEVENT
DTSTAMP:20260425T175442
DTSTART;TZID=Europe/Berlin:20260918T130000
DTEND;TZID=Europe/Berlin:20260918T161500
UID:Y0404934-20260918T130000@VHSMAIN-TAUNUS-KREIS
SUMMARY:Integrationskurs, Alphabetisierung, Modul 8, Kurs 534 (Y0404934) 
LOCATION:Hofheim, vhs, 2.07, Alte Bleiche 5, 65719 Hofheim
END:VEVENT
BEGIN:VEVENT
DTSTAMP:20260425T175442
DTSTART;TZID=Europe/Berlin:20260922T130000
DTEND;TZID=Europe/Berlin:20260922T161500
UID:Y0404934-20260922T130000@VHSMAIN-TAUNUS-KREIS
SUMMARY:Integrationskurs, Alphabetisierung, Modul 8, Kurs 534 (Y0404934) 
LOCATION:Hofheim, vhs, 2.07, Alte Bleiche 5, 65719 Hofheim
END:VEVENT
END:VCALENDAR