BEGIN:VCALENDAR
VERSION:2.0
PRODID:https://www.kufer.de/kuferweb / DE
METHOD:PUBLISH
CALSCALE:GREGORIAN
X-WR-TIMEZONE:Europe/Berlin
BEGIN:VTIMEZONE
TZID:Europe/Berlin
X-LIC-LOCATION:Europe/Berlin
BEGIN:DAYLIGHT
TZOFFSETFROM:+0100
TZOFFSETTO:+0200
TZNAME:CEST
DTSTART:19700329T020000
RRULE:FREQ=YEARLY;INTERVAL=1;BYDAY=-1SU;BYMONTH=3
END:DAYLIGHT
BEGIN:STANDARD
TZOFFSETFROM:+0200
TZOFFSETTO:+0100
TZNAME:CET
DTSTART:19701025T030000
RRULE:FREQ=YEARLY;INTERVAL=1;BYDAY=-1SU;BYMONTH=10
END:STANDARD
END:VTIMEZONE
BEGIN:VEVENT
DTSTAMP:20260425T133258
DTSTART;TZID=Europe/Berlin:20260519T130000
DTEND;TZID=Europe/Berlin:20260519T161500
UID:Y0404925-20260519T130000@VHSMAIN-TAUNUS-KREIS
SUMMARY:Integrationskurs, Alphabetisierung, Modul 8, Kurs 529 (Y0404925) 
LOCATION:Hofheim, vhs, 2.05, Alte Bleiche 5, 65719 Hofheim
END:VEVENT
BEGIN:VEVENT
DTSTAMP:20260425T133258
DTSTART;TZID=Europe/Berlin:20260520T130000
DTEND;TZID=Europe/Berlin:20260520T161500
UID:Y0404925-20260520T130000@VHSMAIN-TAUNUS-KREIS
SUMMARY:Integrationskurs, Alphabetisierung, Modul 8, Kurs 529 (Y0404925) 
LOCATION:Hofheim, vhs, 2.05, Alte Bleiche 5, 65719 Hofheim
END:VEVENT
BEGIN:VEVENT
DTSTAMP:20260425T133258
DTSTART;TZID=Europe/Berlin:20260521T130000
DTEND;TZID=Europe/Berlin:20260521T161500
UID:Y0404925-20260521T130000@VHSMAIN-TAUNUS-KREIS
SUMMARY:Integrationskurs, Alphabetisierung, Modul 8, Kurs 529 (Y0404925) 
LOCATION:Hofheim, vhs, 2.05, Alte Bleiche 5, 65719 Hofheim
END:VEVENT
BEGIN:VEVENT
DTSTAMP:20260425T133258
DTSTART;TZID=Europe/Berlin:20260526T130000
DTEND;TZID=Europe/Berlin:20260526T161500
UID:Y0404925-20260526T130000@VHSMAIN-TAUNUS-KREIS
SUMMARY:Integrationskurs, Alphabetisierung, Modul 8, Kurs 529 (Y0404925) 
LOCATION:Hofheim, vhs, 2.05, Alte Bleiche 5, 65719 Hofheim
END:VEVENT
BEGIN:VEVENT
DTSTAMP:20260425T133258
DTSTART;TZID=Europe/Berlin:20260527T130000
DTEND;TZID=Europe/Berlin:20260527T161500
UID:Y0404925-20260527T130000@VHSMAIN-TAUNUS-KREIS
SUMMARY:Integrationskurs, Alphabetisierung, Modul 8, Kurs 529 (Y0404925) 
LOCATION:Hofheim, vhs, 2.05, Alte Bleiche 5, 65719 Hofheim
END:VEVENT
BEGIN:VEVENT
DTSTAMP:20260425T133258
DTSTART;TZID=Europe/Berlin:20260528T130000
DTEND;TZID=Europe/Berlin:20260528T161500
UID:Y0404925-20260528T130000@VHSMAIN-TAUNUS-KREIS
SUMMARY:Integrationskurs, Alphabetisierung, Modul 8, Kurs 529 (Y0404925) 
LOCATION:Hofheim, vhs, 2.05, Alte Bleiche 5, 65719 Hofheim
END:VEVENT
BEGIN:VEVENT
DTSTAMP:20260425T133258
DTSTART;TZID=Europe/Berlin:20260601T130000
DTEND;TZID=Europe/Berlin:20260601T161500
UID:Y0404925-20260601T130000@VHSMAIN-TAUNUS-KREIS
SUMMARY:Integrationskurs, Alphabetisierung, Modul 8, Kurs 529 (Y0404925) 
LOCATION:Hofheim, vhs, 2.05, Alte Bleiche 5, 65719 Hofheim
END:VEVENT
BEGIN:VEVENT
DTSTAMP:20260425T133258
DTSTART;TZID=Europe/Berlin:20260602T130000
DTEND;TZID=Europe/Berlin:20260602T161500
UID:Y0404925-20260602T130000@VHSMAIN-TAUNUS-KREIS
SUMMARY:Integrationskurs, Alphabetisierung, Modul 8, Kurs 529 (Y0404925) 
LOCATION:Hofheim, vhs, 2.05, Alte Bleiche 5, 65719 Hofheim
END:VEVENT
BEGIN:VEVENT
DTSTAMP:20260425T133258
DTSTART;TZID=Europe/Berlin:20260603T130000
DTEND;TZID=Europe/Berlin:20260603T161500
UID:Y0404925-20260603T130000@VHSMAIN-TAUNUS-KREIS
SUMMARY:Integrationskurs, Alphabetisierung, Modul 8, Kurs 529 (Y0404925) 
LOCATION:Hofheim, vhs, 2.05, Alte Bleiche 5, 65719 Hofheim
END:VEVENT
BEGIN:VEVENT
DTSTAMP:20260425T133258
DTSTART;TZID=Europe/Berlin:20260608T130000
DTEND;TZID=Europe/Berlin:20260608T161500
UID:Y0404925-20260608T130000@VHSMAIN-TAUNUS-KREIS
SUMMARY:Integrationskurs, Alphabetisierung, Modul 8, Kurs 529 (Y0404925) 
LOCATION:Hofheim, vhs, 2.05, Alte Bleiche 5, 65719 Hofheim
END:VEVENT
BEGIN:VEVENT
DTSTAMP:20260425T133258
DTSTART;TZID=Europe/Berlin:20260609T130000
DTEND;TZID=Europe/Berlin:20260609T161500
UID:Y0404925-20260609T130000@VHSMAIN-TAUNUS-KREIS
SUMMARY:Integrationskurs, Alphabetisierung, Modul 8, Kurs 529 (Y0404925) 
LOCATION:Hofheim, vhs, 2.05, Alte Bleiche 5, 65719 Hofheim
END:VEVENT
BEGIN:VEVENT
DTSTAMP:20260425T133258
DTSTART;TZID=Europe/Berlin:20260610T130000
DTEND;TZID=Europe/Berlin:20260610T161500
UID:Y0404925-20260610T130000@VHSMAIN-TAUNUS-KREIS
SUMMARY:Integrationskurs, Alphabetisierung, Modul 8, Kurs 529 (Y0404925) 
LOCATION:Hofheim, vhs, 2.05, Alte Bleiche 5, 65719 Hofheim
END:VEVENT
BEGIN:VEVENT
DTSTAMP:20260425T133258
DTSTART;TZID=Europe/Berlin:20260611T130000
DTEND;TZID=Europe/Berlin:20260611T161500
UID:Y0404925-20260611T130000@VHSMAIN-TAUNUS-KREIS
SUMMARY:Integrationskurs, Alphabetisierung, Modul 8, Kurs 529 (Y0404925) 
LOCATION:Hofheim, vhs, 2.05, Alte Bleiche 5, 65719 Hofheim
END:VEVENT
BEGIN:VEVENT
DTSTAMP:20260425T133258
DTSTART;TZID=Europe/Berlin:20260615T130000
DTEND;TZID=Europe/Berlin:20260615T161500
UID:Y0404925-20260615T130000@VHSMAIN-TAUNUS-KREIS
SUMMARY:Integrationskurs, Alphabetisierung, Modul 8, Kurs 529 (Y0404925) 
LOCATION:Hofheim, vhs, 2.05, Alte Bleiche 5, 65719 Hofheim
END:VEVENT
BEGIN:VEVENT
DTSTAMP:20260425T133258
DTSTART;TZID=Europe/Berlin:20260616T130000
DTEND;TZID=Europe/Berlin:20260616T161500
UID:Y0404925-20260616T130000@VHSMAIN-TAUNUS-KREIS
SUMMARY:Integrationskurs, Alphabetisierung, Modul 8, Kurs 529 (Y0404925) 
LOCATION:Hofheim, vhs, 2.05, Alte Bleiche 5, 65719 Hofheim
END:VEVENT
BEGIN:VEVENT
DTSTAMP:20260425T133258
DTSTART;TZID=Europe/Berlin:20260617T130000
DTEND;TZID=Europe/Berlin:20260617T161500
UID:Y0404925-20260617T130000@VHSMAIN-TAUNUS-KREIS
SUMMARY:Integrationskurs, Alphabetisierung, Modul 8, Kurs 529 (Y0404925) 
LOCATION:Hofheim, vhs, 2.05, Alte Bleiche 5, 65719 Hofheim
END:VEVENT
BEGIN:VEVENT
DTSTAMP:20260425T133258
DTSTART;TZID=Europe/Berlin:20260618T130000
DTEND;TZID=Europe/Berlin:20260618T161500
UID:Y0404925-20260618T130000@VHSMAIN-TAUNUS-KREIS
SUMMARY:Integrationskurs, Alphabetisierung, Modul 8, Kurs 529 (Y0404925) 
LOCATION:Hofheim, vhs, 2.05, Alte Bleiche 5, 65719 Hofheim
END:VEVENT
BEGIN:VEVENT
DTSTAMP:20260425T133258
DTSTART;TZID=Europe/Berlin:20260622T130000
DTEND;TZID=Europe/Berlin:20260622T161500
UID:Y0404925-20260622T130000@VHSMAIN-TAUNUS-KREIS
SUMMARY:Integrationskurs, Alphabetisierung, Modul 8, Kurs 529 (Y0404925) 
LOCATION:Hofheim, vhs, 2.05, Alte Bleiche 5, 65719 Hofheim
END:VEVENT
BEGIN:VEVENT
DTSTAMP:20260425T133258
DTSTART;TZID=Europe/Berlin:20260623T130000
DTEND;TZID=Europe/Berlin:20260623T161500
UID:Y0404925-20260623T130000@VHSMAIN-TAUNUS-KREIS
SUMMARY:Integrationskurs, Alphabetisierung, Modul 8, Kurs 529 (Y0404925) 
LOCATION:Hofheim, vhs, 2.05, Alte Bleiche 5, 65719 Hofheim
END:VEVENT
BEGIN:VEVENT
DTSTAMP:20260425T133258
DTSTART;TZID=Europe/Berlin:20260624T130000
DTEND;TZID=Europe/Berlin:20260624T161500
UID:Y0404925-20260624T130000@VHSMAIN-TAUNUS-KREIS
SUMMARY:Integrationskurs, Alphabetisierung, Modul 8, Kurs 529 (Y0404925) 
LOCATION:Hofheim, vhs, 2.05, Alte Bleiche 5, 65719 Hofheim
END:VEVENT
BEGIN:VEVENT
DTSTAMP:20260425T133258
DTSTART;TZID=Europe/Berlin:20260625T130000
DTEND;TZID=Europe/Berlin:20260625T161500
UID:Y0404925-20260625T130000@VHSMAIN-TAUNUS-KREIS
SUMMARY:Integrationskurs, Alphabetisierung, Modul 8, Kurs 529 (Y0404925) 
LOCATION:Hofheim, vhs, 2.05, Alte Bleiche 5, 65719 Hofheim
END:VEVENT
BEGIN:VEVENT
DTSTAMP:20260425T133258
DTSTART;TZID=Europe/Berlin:20260629T130000
DTEND;TZID=Europe/Berlin:20260629T161500
UID:Y0404925-20260629T130000@VHSMAIN-TAUNUS-KREIS
SUMMARY:Integrationskurs, Alphabetisierung, Modul 8, Kurs 529 (Y0404925) 
LOCATION:Hofheim, vhs, 2.05, Alte Bleiche 5, 65719 Hofheim
END:VEVENT
BEGIN:VEVENT
DTSTAMP:20260425T133258
DTSTART;TZID=Europe/Berlin:20260630T130000
DTEND;TZID=Europe/Berlin:20260630T161500
UID:Y0404925-20260630T130000@VHSMAIN-TAUNUS-KREIS
SUMMARY:Integrationskurs, Alphabetisierung, Modul 8, Kurs 529 (Y0404925) 
LOCATION:Hofheim, vhs, 2.05, Alte Bleiche 5, 65719 Hofheim
END:VEVENT
BEGIN:VEVENT
DTSTAMP:20260425T133258
DTSTART;TZID=Europe/Berlin:20260701T130000
DTEND;TZID=Europe/Berlin:20260701T161500
UID:Y0404925-20260701T130000@VHSMAIN-TAUNUS-KREIS
SUMMARY:Integrationskurs, Alphabetisierung, Modul 8, Kurs 529 (Y0404925) 
LOCATION:Hofheim, vhs, 2.05, Alte Bleiche 5, 65719 Hofheim
END:VEVENT
BEGIN:VEVENT
DTSTAMP:20260425T133258
DTSTART;TZID=Europe/Berlin:20260702T130000
DTEND;TZID=Europe/Berlin:20260702T161500
UID:Y0404925-20260702T130000@VHSMAIN-TAUNUS-KREIS
SUMMARY:Integrationskurs, Alphabetisierung, Modul 8, Kurs 529 (Y0404925) 
LOCATION:Hofheim, vhs, 2.05, Alte Bleiche 5, 65719 Hofheim
END:VEVENT
END:VCALENDAR