BEGIN:VCALENDAR
VERSION:2.0
PRODID:https://www.kufer.de/kuferweb / DE
METHOD:PUBLISH
CALSCALE:GREGORIAN
X-WR-TIMEZONE:Europe/Berlin
BEGIN:VTIMEZONE
TZID:Europe/Berlin
X-LIC-LOCATION:Europe/Berlin
BEGIN:DAYLIGHT
TZOFFSETFROM:+0100
TZOFFSETTO:+0200
TZNAME:CEST
DTSTART:19700329T020000
RRULE:FREQ=YEARLY;INTERVAL=1;BYDAY=-1SU;BYMONTH=3
END:DAYLIGHT
BEGIN:STANDARD
TZOFFSETFROM:+0200
TZOFFSETTO:+0100
TZNAME:CET
DTSTART:19701025T030000
RRULE:FREQ=YEARLY;INTERVAL=1;BYDAY=-1SU;BYMONTH=10
END:STANDARD
END:VTIMEZONE
BEGIN:VEVENT
DTSTAMP:20260425T145931
DTSTART;TZID=Europe/Berlin:20260519T180000
DTEND;TZID=Europe/Berlin:20260519T211500
UID:Y0404804-20260519T180000@VHSMAIN-TAUNUS-KREIS
SUMMARY:Integrationskurs, Aufbaukurs 3, Kurs 535 (B1-2) (Y0404804) 
LOCATION:Hofheim, vhs, 3.01, Alte Bleiche 5, 65719 Hofheim
END:VEVENT
BEGIN:VEVENT
DTSTAMP:20260425T145931
DTSTART;TZID=Europe/Berlin:20260520T180000
DTEND;TZID=Europe/Berlin:20260520T211500
UID:Y0404804-20260520T180000@VHSMAIN-TAUNUS-KREIS
SUMMARY:Integrationskurs, Aufbaukurs 3, Kurs 535 (B1-2) (Y0404804) 
LOCATION:Hofheim, vhs, 3.01, Alte Bleiche 5, 65719 Hofheim
END:VEVENT
BEGIN:VEVENT
DTSTAMP:20260425T145931
DTSTART;TZID=Europe/Berlin:20260521T180000
DTEND;TZID=Europe/Berlin:20260521T211500
UID:Y0404804-20260521T180000@VHSMAIN-TAUNUS-KREIS
SUMMARY:Integrationskurs, Aufbaukurs 3, Kurs 535 (B1-2) (Y0404804) 
LOCATION:Hofheim, vhs, 3.01, Alte Bleiche 5, 65719 Hofheim
END:VEVENT
BEGIN:VEVENT
DTSTAMP:20260425T145931
DTSTART;TZID=Europe/Berlin:20260526T180000
DTEND;TZID=Europe/Berlin:20260526T211500
UID:Y0404804-20260526T180000@VHSMAIN-TAUNUS-KREIS
SUMMARY:Integrationskurs, Aufbaukurs 3, Kurs 535 (B1-2) (Y0404804) 
LOCATION:Hofheim, vhs, 3.01, Alte Bleiche 5, 65719 Hofheim
END:VEVENT
BEGIN:VEVENT
DTSTAMP:20260425T145931
DTSTART;TZID=Europe/Berlin:20260527T180000
DTEND;TZID=Europe/Berlin:20260527T211500
UID:Y0404804-20260527T180000@VHSMAIN-TAUNUS-KREIS
SUMMARY:Integrationskurs, Aufbaukurs 3, Kurs 535 (B1-2) (Y0404804) 
LOCATION:Hofheim, vhs, 3.01, Alte Bleiche 5, 65719 Hofheim
END:VEVENT
BEGIN:VEVENT
DTSTAMP:20260425T145931
DTSTART;TZID=Europe/Berlin:20260528T180000
DTEND;TZID=Europe/Berlin:20260528T211500
UID:Y0404804-20260528T180000@VHSMAIN-TAUNUS-KREIS
SUMMARY:Integrationskurs, Aufbaukurs 3, Kurs 535 (B1-2) (Y0404804) 
LOCATION:Hofheim, vhs, 3.01, Alte Bleiche 5, 65719 Hofheim
END:VEVENT
BEGIN:VEVENT
DTSTAMP:20260425T145931
DTSTART;TZID=Europe/Berlin:20260601T180000
DTEND;TZID=Europe/Berlin:20260601T211500
UID:Y0404804-20260601T180000@VHSMAIN-TAUNUS-KREIS
SUMMARY:Integrationskurs, Aufbaukurs 3, Kurs 535 (B1-2) (Y0404804) 
LOCATION:Hofheim, vhs, 3.01, Alte Bleiche 5, 65719 Hofheim
END:VEVENT
BEGIN:VEVENT
DTSTAMP:20260425T145931
DTSTART;TZID=Europe/Berlin:20260602T180000
DTEND;TZID=Europe/Berlin:20260602T211500
UID:Y0404804-20260602T180000@VHSMAIN-TAUNUS-KREIS
SUMMARY:Integrationskurs, Aufbaukurs 3, Kurs 535 (B1-2) (Y0404804) 
LOCATION:Hofheim, vhs, 3.01, Alte Bleiche 5, 65719 Hofheim
END:VEVENT
BEGIN:VEVENT
DTSTAMP:20260425T145931
DTSTART;TZID=Europe/Berlin:20260603T180000
DTEND;TZID=Europe/Berlin:20260603T211500
UID:Y0404804-20260603T180000@VHSMAIN-TAUNUS-KREIS
SUMMARY:Integrationskurs, Aufbaukurs 3, Kurs 535 (B1-2) (Y0404804) 
LOCATION:Hofheim, vhs, 3.01, Alte Bleiche 5, 65719 Hofheim
END:VEVENT
BEGIN:VEVENT
DTSTAMP:20260425T145931
DTSTART;TZID=Europe/Berlin:20260608T180000
DTEND;TZID=Europe/Berlin:20260608T211500
UID:Y0404804-20260608T180000@VHSMAIN-TAUNUS-KREIS
SUMMARY:Integrationskurs, Aufbaukurs 3, Kurs 535 (B1-2) (Y0404804) 
LOCATION:Hofheim, vhs, 3.01, Alte Bleiche 5, 65719 Hofheim
END:VEVENT
BEGIN:VEVENT
DTSTAMP:20260425T145931
DTSTART;TZID=Europe/Berlin:20260609T180000
DTEND;TZID=Europe/Berlin:20260609T211500
UID:Y0404804-20260609T180000@VHSMAIN-TAUNUS-KREIS
SUMMARY:Integrationskurs, Aufbaukurs 3, Kurs 535 (B1-2) (Y0404804) 
LOCATION:Hofheim, vhs, 3.01, Alte Bleiche 5, 65719 Hofheim
END:VEVENT
BEGIN:VEVENT
DTSTAMP:20260425T145931
DTSTART;TZID=Europe/Berlin:20260610T180000
DTEND;TZID=Europe/Berlin:20260610T211500
UID:Y0404804-20260610T180000@VHSMAIN-TAUNUS-KREIS
SUMMARY:Integrationskurs, Aufbaukurs 3, Kurs 535 (B1-2) (Y0404804) 
LOCATION:Hofheim, vhs, 3.01, Alte Bleiche 5, 65719 Hofheim
END:VEVENT
BEGIN:VEVENT
DTSTAMP:20260425T145931
DTSTART;TZID=Europe/Berlin:20260611T180000
DTEND;TZID=Europe/Berlin:20260611T211500
UID:Y0404804-20260611T180000@VHSMAIN-TAUNUS-KREIS
SUMMARY:Integrationskurs, Aufbaukurs 3, Kurs 535 (B1-2) (Y0404804) 
LOCATION:Hofheim, vhs, 3.01, Alte Bleiche 5, 65719 Hofheim
END:VEVENT
BEGIN:VEVENT
DTSTAMP:20260425T145931
DTSTART;TZID=Europe/Berlin:20260615T180000
DTEND;TZID=Europe/Berlin:20260615T211500
UID:Y0404804-20260615T180000@VHSMAIN-TAUNUS-KREIS
SUMMARY:Integrationskurs, Aufbaukurs 3, Kurs 535 (B1-2) (Y0404804) 
LOCATION:Hofheim, vhs, 3.01, Alte Bleiche 5, 65719 Hofheim
END:VEVENT
BEGIN:VEVENT
DTSTAMP:20260425T145931
DTSTART;TZID=Europe/Berlin:20260616T180000
DTEND;TZID=Europe/Berlin:20260616T211500
UID:Y0404804-20260616T180000@VHSMAIN-TAUNUS-KREIS
SUMMARY:Integrationskurs, Aufbaukurs 3, Kurs 535 (B1-2) (Y0404804) 
LOCATION:Hofheim, vhs, 3.01, Alte Bleiche 5, 65719 Hofheim
END:VEVENT
BEGIN:VEVENT
DTSTAMP:20260425T145931
DTSTART;TZID=Europe/Berlin:20260617T180000
DTEND;TZID=Europe/Berlin:20260617T211500
UID:Y0404804-20260617T180000@VHSMAIN-TAUNUS-KREIS
SUMMARY:Integrationskurs, Aufbaukurs 3, Kurs 535 (B1-2) (Y0404804) 
LOCATION:Hofheim, vhs, 3.01, Alte Bleiche 5, 65719 Hofheim
END:VEVENT
BEGIN:VEVENT
DTSTAMP:20260425T145931
DTSTART;TZID=Europe/Berlin:20260618T180000
DTEND;TZID=Europe/Berlin:20260618T211500
UID:Y0404804-20260618T180000@VHSMAIN-TAUNUS-KREIS
SUMMARY:Integrationskurs, Aufbaukurs 3, Kurs 535 (B1-2) (Y0404804) 
LOCATION:Hofheim, vhs, 3.01, Alte Bleiche 5, 65719 Hofheim
END:VEVENT
BEGIN:VEVENT
DTSTAMP:20260425T145931
DTSTART;TZID=Europe/Berlin:20260622T180000
DTEND;TZID=Europe/Berlin:20260622T211500
UID:Y0404804-20260622T180000@VHSMAIN-TAUNUS-KREIS
SUMMARY:Integrationskurs, Aufbaukurs 3, Kurs 535 (B1-2) (Y0404804) 
LOCATION:Hofheim, vhs, 3.01, Alte Bleiche 5, 65719 Hofheim
END:VEVENT
BEGIN:VEVENT
DTSTAMP:20260425T145931
DTSTART;TZID=Europe/Berlin:20260623T180000
DTEND;TZID=Europe/Berlin:20260623T211500
UID:Y0404804-20260623T180000@VHSMAIN-TAUNUS-KREIS
SUMMARY:Integrationskurs, Aufbaukurs 3, Kurs 535 (B1-2) (Y0404804) 
LOCATION:Hofheim, vhs, 3.01, Alte Bleiche 5, 65719 Hofheim
END:VEVENT
BEGIN:VEVENT
DTSTAMP:20260425T145931
DTSTART;TZID=Europe/Berlin:20260624T180000
DTEND;TZID=Europe/Berlin:20260624T211500
UID:Y0404804-20260624T180000@VHSMAIN-TAUNUS-KREIS
SUMMARY:Integrationskurs, Aufbaukurs 3, Kurs 535 (B1-2) (Y0404804) 
LOCATION:Hofheim, vhs, 3.01, Alte Bleiche 5, 65719 Hofheim
END:VEVENT
BEGIN:VEVENT
DTSTAMP:20260425T145931
DTSTART;TZID=Europe/Berlin:20260625T180000
DTEND;TZID=Europe/Berlin:20260625T211500
UID:Y0404804-20260625T180000@VHSMAIN-TAUNUS-KREIS
SUMMARY:Integrationskurs, Aufbaukurs 3, Kurs 535 (B1-2) (Y0404804) 
LOCATION:Hofheim, vhs, 3.01, Alte Bleiche 5, 65719 Hofheim
END:VEVENT
BEGIN:VEVENT
DTSTAMP:20260425T145931
DTSTART;TZID=Europe/Berlin:20260810T180000
DTEND;TZID=Europe/Berlin:20260810T211500
UID:Y0404804-20260810T180000@VHSMAIN-TAUNUS-KREIS
SUMMARY:Integrationskurs, Aufbaukurs 3, Kurs 535 (B1-2) (Y0404804) 
LOCATION:Hofheim, vhs, 3.01, Alte Bleiche 5, 65719 Hofheim
END:VEVENT
BEGIN:VEVENT
DTSTAMP:20260425T145931
DTSTART;TZID=Europe/Berlin:20260811T180000
DTEND;TZID=Europe/Berlin:20260811T211500
UID:Y0404804-20260811T180000@VHSMAIN-TAUNUS-KREIS
SUMMARY:Integrationskurs, Aufbaukurs 3, Kurs 535 (B1-2) (Y0404804) 
LOCATION:Hofheim, vhs, 3.01, Alte Bleiche 5, 65719 Hofheim
END:VEVENT
BEGIN:VEVENT
DTSTAMP:20260425T145931
DTSTART;TZID=Europe/Berlin:20260812T180000
DTEND;TZID=Europe/Berlin:20260812T211500
UID:Y0404804-20260812T180000@VHSMAIN-TAUNUS-KREIS
SUMMARY:Integrationskurs, Aufbaukurs 3, Kurs 535 (B1-2) (Y0404804) 
LOCATION:Hofheim, vhs, 3.01, Alte Bleiche 5, 65719 Hofheim
END:VEVENT
BEGIN:VEVENT
DTSTAMP:20260425T145931
DTSTART;TZID=Europe/Berlin:20260813T180000
DTEND;TZID=Europe/Berlin:20260813T211500
UID:Y0404804-20260813T180000@VHSMAIN-TAUNUS-KREIS
SUMMARY:Integrationskurs, Aufbaukurs 3, Kurs 535 (B1-2) (Y0404804) 
LOCATION:Hofheim, vhs, 3.01, Alte Bleiche 5, 65719 Hofheim
END:VEVENT
END:VCALENDAR