BEGIN:VCALENDAR
VERSION:2.0
PRODID:https://www.kufer.de/kuferweb / DE
METHOD:PUBLISH
CALSCALE:GREGORIAN
X-WR-TIMEZONE:Europe/Berlin
BEGIN:VTIMEZONE
TZID:Europe/Berlin
X-LIC-LOCATION:Europe/Berlin
BEGIN:DAYLIGHT
TZOFFSETFROM:+0100
TZOFFSETTO:+0200
TZNAME:CEST
DTSTART:19700329T020000
RRULE:FREQ=YEARLY;INTERVAL=1;BYDAY=-1SU;BYMONTH=3
END:DAYLIGHT
BEGIN:STANDARD
TZOFFSETFROM:+0200
TZOFFSETTO:+0100
TZNAME:CET
DTSTART:19701025T030000
RRULE:FREQ=YEARLY;INTERVAL=1;BYDAY=-1SU;BYMONTH=10
END:STANDARD
END:VTIMEZONE
BEGIN:VEVENT
DTSTAMP:20260425T133750
DTSTART;TZID=Europe/Berlin:20260810T090000
DTEND;TZID=Europe/Berlin:20260810T160000
UID:Y0300644-20260810T090000@VHSMAIN-TAUNUS-KREIS
SUMMARY:Yoga & Meditation: Entdecken Sie Ihren Weg zur inneren Ruhe im (Berufs-)Alltag. Die Herausforderungen der modernen Arbeitswelt - Yoga als Weg zur Gesundheitsförderung und Senkung der betriebs- und volkswirtschaftlichen Kosten (Y0300644) 
LOCATION:Hofheim, vhs, 2.02, Alte Bleiche 5, 65719 Hofheim
END:VEVENT
BEGIN:VEVENT
DTSTAMP:20260425T133750
DTSTART;TZID=Europe/Berlin:20260811T090000
DTEND;TZID=Europe/Berlin:20260811T160000
UID:Y0300644-20260811T090000@VHSMAIN-TAUNUS-KREIS
SUMMARY:Yoga & Meditation: Entdecken Sie Ihren Weg zur inneren Ruhe im (Berufs-)Alltag. Die Herausforderungen der modernen Arbeitswelt - Yoga als Weg zur Gesundheitsförderung und Senkung der betriebs- und volkswirtschaftlichen Kosten (Y0300644) 
LOCATION:Hofheim, vhs, 2.02, Alte Bleiche 5, 65719 Hofheim
END:VEVENT
BEGIN:VEVENT
DTSTAMP:20260425T133750
DTSTART;TZID=Europe/Berlin:20260812T090000
DTEND;TZID=Europe/Berlin:20260812T160000
UID:Y0300644-20260812T090000@VHSMAIN-TAUNUS-KREIS
SUMMARY:Yoga & Meditation: Entdecken Sie Ihren Weg zur inneren Ruhe im (Berufs-)Alltag. Die Herausforderungen der modernen Arbeitswelt - Yoga als Weg zur Gesundheitsförderung und Senkung der betriebs- und volkswirtschaftlichen Kosten (Y0300644) 
LOCATION:Hofheim, vhs, 2.02, Alte Bleiche 5, 65719 Hofheim
END:VEVENT
BEGIN:VEVENT
DTSTAMP:20260425T133750
DTSTART;TZID=Europe/Berlin:20260813T090000
DTEND;TZID=Europe/Berlin:20260813T153000
UID:Y0300644-20260813T090000@VHSMAIN-TAUNUS-KREIS
SUMMARY:Yoga & Meditation: Entdecken Sie Ihren Weg zur inneren Ruhe im (Berufs-)Alltag. Die Herausforderungen der modernen Arbeitswelt - Yoga als Weg zur Gesundheitsförderung und Senkung der betriebs- und volkswirtschaftlichen Kosten (Y0300644) 
LOCATION:Hofheim, vhs, 2.02, Alte Bleiche 5, 65719 Hofheim
END:VEVENT
BEGIN:VEVENT
DTSTAMP:20260425T133750
DTSTART;TZID=Europe/Berlin:20260814T090000
DTEND;TZID=Europe/Berlin:20260814T160000
UID:Y0300644-20260814T090000@VHSMAIN-TAUNUS-KREIS
SUMMARY:Yoga & Meditation: Entdecken Sie Ihren Weg zur inneren Ruhe im (Berufs-)Alltag. Die Herausforderungen der modernen Arbeitswelt - Yoga als Weg zur Gesundheitsförderung und Senkung der betriebs- und volkswirtschaftlichen Kosten (Y0300644) 
LOCATION:Hofheim, vhs, 2.02, Alte Bleiche 5, 65719 Hofheim
END:VEVENT
END:VCALENDAR