BEGIN:VCALENDAR
VERSION:2.0
PRODID:https://www.kufer.de/kuferweb / DE
METHOD:PUBLISH
CALSCALE:GREGORIAN
X-WR-TIMEZONE:Europe/Berlin
BEGIN:VTIMEZONE
TZID:Europe/Berlin
X-LIC-LOCATION:Europe/Berlin
BEGIN:DAYLIGHT
TZOFFSETFROM:+0100
TZOFFSETTO:+0200
TZNAME:CEST
DTSTART:19700329T020000
RRULE:FREQ=YEARLY;INTERVAL=1;BYDAY=-1SU;BYMONTH=3
END:DAYLIGHT
BEGIN:STANDARD
TZOFFSETFROM:+0200
TZOFFSETTO:+0100
TZNAME:CET
DTSTART:19701025T030000
RRULE:FREQ=YEARLY;INTERVAL=1;BYDAY=-1SU;BYMONTH=10
END:STANDARD
END:VTIMEZONE
BEGIN:VEVENT
DTSTAMP:20260425T133712
DTSTART;TZID=Europe/Berlin:20260706T090000
DTEND;TZID=Europe/Berlin:20260706T160000
UID:Y0300619-20260706T090000@VHSMAIN-TAUNUS-KREIS
SUMMARY:Yoga zur Förderung der Rückengesundheit und Stressbewältigung im Berufsalltag. Prävention und mentale Stabilität im Arbeitsleben unter Berücksichtigung sozialer und gesellschaftlicher Faktoren (Y0300619) 
LOCATION:Hofheim, vhs, 5.01, Alte Bleiche 5, 65719 Hofheim
END:VEVENT
BEGIN:VEVENT
DTSTAMP:20260425T133712
DTSTART;TZID=Europe/Berlin:20260707T090000
DTEND;TZID=Europe/Berlin:20260707T160000
UID:Y0300619-20260707T090000@VHSMAIN-TAUNUS-KREIS
SUMMARY:Yoga zur Förderung der Rückengesundheit und Stressbewältigung im Berufsalltag. Prävention und mentale Stabilität im Arbeitsleben unter Berücksichtigung sozialer und gesellschaftlicher Faktoren (Y0300619) 
LOCATION:Hofheim, vhs, 5.01, Alte Bleiche 5, 65719 Hofheim
END:VEVENT
BEGIN:VEVENT
DTSTAMP:20260425T133712
DTSTART;TZID=Europe/Berlin:20260708T090000
DTEND;TZID=Europe/Berlin:20260708T160000
UID:Y0300619-20260708T090000@VHSMAIN-TAUNUS-KREIS
SUMMARY:Yoga zur Förderung der Rückengesundheit und Stressbewältigung im Berufsalltag. Prävention und mentale Stabilität im Arbeitsleben unter Berücksichtigung sozialer und gesellschaftlicher Faktoren (Y0300619) 
LOCATION:Hofheim, vhs, 5.01, Alte Bleiche 5, 65719 Hofheim
END:VEVENT
BEGIN:VEVENT
DTSTAMP:20260425T133712
DTSTART;TZID=Europe/Berlin:20260709T090000
DTEND;TZID=Europe/Berlin:20260709T160000
UID:Y0300619-20260709T090000@VHSMAIN-TAUNUS-KREIS
SUMMARY:Yoga zur Förderung der Rückengesundheit und Stressbewältigung im Berufsalltag. Prävention und mentale Stabilität im Arbeitsleben unter Berücksichtigung sozialer und gesellschaftlicher Faktoren (Y0300619) 
LOCATION:Hofheim, vhs, 5.01, Alte Bleiche 5, 65719 Hofheim
END:VEVENT
END:VCALENDAR