BEGIN:VCALENDAR
VERSION:2.0
PRODID:https://www.kufer.de/kuferweb / DE
METHOD:PUBLISH
CALSCALE:GREGORIAN
X-WR-TIMEZONE:Europe/Berlin
BEGIN:VTIMEZONE
TZID:Europe/Berlin
X-LIC-LOCATION:Europe/Berlin
BEGIN:DAYLIGHT
TZOFFSETFROM:+0100
TZOFFSETTO:+0200
TZNAME:CEST
DTSTART:19700329T020000
RRULE:FREQ=YEARLY;INTERVAL=1;BYDAY=-1SU;BYMONTH=3
END:DAYLIGHT
BEGIN:STANDARD
TZOFFSETFROM:+0200
TZOFFSETTO:+0100
TZNAME:CET
DTSTART:19701025T030000
RRULE:FREQ=YEARLY;INTERVAL=1;BYDAY=-1SU;BYMONTH=10
END:STANDARD
END:VTIMEZONE
BEGIN:VEVENT
DTSTAMP:20260425T142057
DTSTART;TZID=Europe/Berlin:20260418T100000
DTEND;TZID=Europe/Berlin:20260418T164500
UID:Y0208108-20260418T100000@VHSMAIN-TAUNUS-KREIS
SUMMARY:Goldschmieden - Workshop (Y0208108) 
LOCATION:Hofheim, vhs, 5.07, Alte Bleiche 5, 65719 Hofheim
END:VEVENT
BEGIN:VEVENT
DTSTAMP:20260425T142057
DTSTART;TZID=Europe/Berlin:20260425T100000
DTEND;TZID=Europe/Berlin:20260425T164500
UID:Y0208108-20260425T100000@VHSMAIN-TAUNUS-KREIS
SUMMARY:Goldschmieden - Workshop (Y0208108) 
LOCATION:Hofheim, vhs, 5.07, Alte Bleiche 5, 65719 Hofheim
END:VEVENT
END:VCALENDAR