BEGIN:VCALENDAR
VERSION:2.0
PRODID:https://www.kufer.de/kuferweb / DE
METHOD:PUBLISH
CALSCALE:GREGORIAN
X-WR-TIMEZONE:Europe/Berlin
BEGIN:VTIMEZONE
TZID:Europe/Berlin
X-LIC-LOCATION:Europe/Berlin
BEGIN:DAYLIGHT
TZOFFSETFROM:+0100
TZOFFSETTO:+0200
TZNAME:CEST
DTSTART:19700329T020000
RRULE:FREQ=YEARLY;INTERVAL=1;BYDAY=-1SU;BYMONTH=3
END:DAYLIGHT
BEGIN:STANDARD
TZOFFSETFROM:+0200
TZOFFSETTO:+0100
TZNAME:CET
DTSTART:19701025T030000
RRULE:FREQ=YEARLY;INTERVAL=1;BYDAY=-1SU;BYMONTH=10
END:STANDARD
END:VTIMEZONE
BEGIN:VEVENT
DTSTAMP:20260425T142037
DTSTART;TZID=Europe/Berlin:20260413T093000
DTEND;TZID=Europe/Berlin:20260413T123000
UID:Y0208104-20260413T093000@VHSMAIN-TAUNUS-KREIS
SUMMARY:Goldschmieden am Morgen (Y0208104) 
LOCATION:Hofheim, vhs, 5.07, Alte Bleiche 5, 65719 Hofheim
END:VEVENT
BEGIN:VEVENT
DTSTAMP:20260425T142037
DTSTART;TZID=Europe/Berlin:20260420T093000
DTEND;TZID=Europe/Berlin:20260420T123000
UID:Y0208104-20260420T093000@VHSMAIN-TAUNUS-KREIS
SUMMARY:Goldschmieden am Morgen (Y0208104) 
LOCATION:Hofheim, vhs, 5.07, Alte Bleiche 5, 65719 Hofheim
END:VEVENT
BEGIN:VEVENT
DTSTAMP:20260425T142037
DTSTART;TZID=Europe/Berlin:20260427T093000
DTEND;TZID=Europe/Berlin:20260427T123000
UID:Y0208104-20260427T093000@VHSMAIN-TAUNUS-KREIS
SUMMARY:Goldschmieden am Morgen (Y0208104) 
LOCATION:Hofheim, vhs, 5.07, Alte Bleiche 5, 65719 Hofheim
END:VEVENT
BEGIN:VEVENT
DTSTAMP:20260425T142037
DTSTART;TZID=Europe/Berlin:20260504T093000
DTEND;TZID=Europe/Berlin:20260504T123000
UID:Y0208104-20260504T093000@VHSMAIN-TAUNUS-KREIS
SUMMARY:Goldschmieden am Morgen (Y0208104) 
LOCATION:Hofheim, vhs, 5.07, Alte Bleiche 5, 65719 Hofheim
END:VEVENT
BEGIN:VEVENT
DTSTAMP:20260425T142037
DTSTART;TZID=Europe/Berlin:20260511T093000
DTEND;TZID=Europe/Berlin:20260511T123000
UID:Y0208104-20260511T093000@VHSMAIN-TAUNUS-KREIS
SUMMARY:Goldschmieden am Morgen (Y0208104) 
LOCATION:Hofheim, vhs, 5.07, Alte Bleiche 5, 65719 Hofheim
END:VEVENT
BEGIN:VEVENT
DTSTAMP:20260425T142037
DTSTART;TZID=Europe/Berlin:20260518T093000
DTEND;TZID=Europe/Berlin:20260518T123000
UID:Y0208104-20260518T093000@VHSMAIN-TAUNUS-KREIS
SUMMARY:Goldschmieden am Morgen (Y0208104) 
LOCATION:Hofheim, vhs, 5.07, Alte Bleiche 5, 65719 Hofheim
END:VEVENT
BEGIN:VEVENT
DTSTAMP:20260425T142037
DTSTART;TZID=Europe/Berlin:20260601T093000
DTEND;TZID=Europe/Berlin:20260601T123000
UID:Y0208104-20260601T093000@VHSMAIN-TAUNUS-KREIS
SUMMARY:Goldschmieden am Morgen (Y0208104) 
LOCATION:Hofheim, vhs, 5.07, Alte Bleiche 5, 65719 Hofheim
END:VEVENT
END:VCALENDAR